BEGIN:VCALENDAR
VERSION:2.0
PRODID:-//Surel&#039;s Place - ECPv6.15.20//NONSGML v1.0//EN
CALSCALE:GREGORIAN
METHOD:PUBLISH
X-ORIGINAL-URL:https://surelsplace.org
X-WR-CALDESC:Events for Surel&#039;s Place
REFRESH-INTERVAL;VALUE=DURATION:PT1H
X-Robots-Tag:noindex
X-PUBLISHED-TTL:PT1H
BEGIN:VTIMEZONE
TZID:America/Boise
BEGIN:DAYLIGHT
TZOFFSETFROM:-0700
TZOFFSETTO:-0600
TZNAME:MDT
DTSTART:20240310T090000
END:DAYLIGHT
BEGIN:STANDARD
TZOFFSETFROM:-0600
TZOFFSETTO:-0700
TZNAME:MST
DTSTART:20241103T080000
END:STANDARD
BEGIN:DAYLIGHT
TZOFFSETFROM:-0700
TZOFFSETTO:-0600
TZNAME:MDT
DTSTART:20250309T090000
END:DAYLIGHT
BEGIN:STANDARD
TZOFFSETFROM:-0600
TZOFFSETTO:-0700
TZNAME:MST
DTSTART:20251102T080000
END:STANDARD
BEGIN:DAYLIGHT
TZOFFSETFROM:-0700
TZOFFSETTO:-0600
TZNAME:MDT
DTSTART:20260308T090000
END:DAYLIGHT
BEGIN:STANDARD
TZOFFSETFROM:-0600
TZOFFSETTO:-0700
TZNAME:MST
DTSTART:20261101T080000
END:STANDARD
END:VTIMEZONE
BEGIN:VEVENT
DTSTART;TZID=America/Boise:20250429T160000
DTEND;TZID=America/Boise:20250429T200000
DTSTAMP:20260424T022823
CREATED:20250424T171704Z
LAST-MODIFIED:20250429T182155Z
UID:4549-1745942400-1745956800@surelsplace.org
SUMMARY:BFF Block Party for Idaho Gives
DESCRIPTION:IDAHO GIVES EVENT \n\n\n\nBFF BLOCK PARTY \n\n\n\nTuesday\, April 29th  |  4:00pm – 8:00pm \n\n\n\nat Lost Grove Brewing: 1026 S. La Pointe St. in Boise \n\n\n\nCome to Lost Grove Brewing in the Lusk District for the 7th Annual BFF Block Party for Idaho Gives. Surel’s Place will be there along with dozens of other Treasure Valley nonprofits. Lost Grove Brewing is donating the money from all beer sales to the Idaho Nonprofit Center\, helping fund future scholarships. Boise Rock School will be showcasing their talents on the stage all evening long. Come have a pint while celebrating community and the good work nonprofits are doing.
URL:https://surelsplace.org/event/bff-block-party-for-idaho-gives/
LOCATION:Idaho
CATEGORIES:Community Participation,Special Event
ATTACH;FMTTYPE=image/png:https://surelsplace.org/wp-content/uploads/2025/04/BFF-Block-Party-2024-Poster.pdf-Instagram-Post.png
END:VEVENT
END:VCALENDAR