BEGIN:VCALENDAR
VERSION:2.0
PRODID:-//Surel&#039;s Place - ECPv6.15.20//NONSGML v1.0//EN
CALSCALE:GREGORIAN
METHOD:PUBLISH
X-WR-CALNAME:Surel&#039;s Place
X-ORIGINAL-URL:https://surelsplace.org
X-WR-CALDESC:Events for Surel&#039;s Place
REFRESH-INTERVAL;VALUE=DURATION:PT1H
X-Robots-Tag:noindex
X-PUBLISHED-TTL:PT1H
BEGIN:VTIMEZONE
TZID:America/Boise
BEGIN:DAYLIGHT
TZOFFSETFROM:-0700
TZOFFSETTO:-0600
TZNAME:MDT
DTSTART:20230312T090000
END:DAYLIGHT
BEGIN:STANDARD
TZOFFSETFROM:-0600
TZOFFSETTO:-0700
TZNAME:MST
DTSTART:20231105T080000
END:STANDARD
BEGIN:DAYLIGHT
TZOFFSETFROM:-0700
TZOFFSETTO:-0600
TZNAME:MDT
DTSTART:20240310T090000
END:DAYLIGHT
BEGIN:STANDARD
TZOFFSETFROM:-0600
TZOFFSETTO:-0700
TZNAME:MST
DTSTART:20241103T080000
END:STANDARD
BEGIN:DAYLIGHT
TZOFFSETFROM:-0700
TZOFFSETTO:-0600
TZNAME:MDT
DTSTART:20250309T090000
END:DAYLIGHT
BEGIN:STANDARD
TZOFFSETFROM:-0600
TZOFFSETTO:-0700
TZNAME:MST
DTSTART:20251102T080000
END:STANDARD
END:VTIMEZONE
BEGIN:VEVENT
DTSTART;TZID=America/Boise:20240920T180000
DTEND;TZID=America/Boise:20240920T200000
DTSTAMP:20260424T130938
CREATED:20240819T230514Z
LAST-MODIFIED:20240827T011932Z
UID:3604-1726855200-1726862400@surelsplace.org
SUMMARY:BINGO! Fundraiser at The Shrine Social Club
DESCRIPTION:Join us for an evening of classic bingo in the basement at the Shrine Social Club! All proceeds will go directly to Surel’s Place\, so come purchase a board (or multiple boards) for a chance to win some great prizes\, including an SP swag bag\, tickets to upcoming Artist-in-Residence Rob Scheps‘s performance at The Sapphire Room on Oct. 23rd\, or an original fine art print by alumna Willow Wells.
URL:https://surelsplace.org/event/bingo-fundraiser-at-the-shrine-social-club/
LOCATION:The Shrine Social Club\, 1118 W. Idaho St.\, Boise\, Idaho\, 83702\, United States
CATEGORIES:Community Participation,Special Event
ATTACH;FMTTYPE=image/png:https://surelsplace.org/wp-content/uploads/2024/08/Bingo.png
END:VEVENT
END:VCALENDAR