BEGIN:VCALENDAR
VERSION:2.0
PRODID:-//Surel&#039;s Place - ECPv6.15.20//NONSGML v1.0//EN
CALSCALE:GREGORIAN
METHOD:PUBLISH
X-ORIGINAL-URL:https://surelsplace.org
X-WR-CALDESC:Events for Surel&#039;s Place
REFRESH-INTERVAL;VALUE=DURATION:PT1H
X-Robots-Tag:noindex
X-PUBLISHED-TTL:PT1H
BEGIN:VTIMEZONE
TZID:America/Boise
BEGIN:DAYLIGHT
TZOFFSETFROM:-0700
TZOFFSETTO:-0600
TZNAME:MDT
DTSTART:20230312T090000
END:DAYLIGHT
BEGIN:STANDARD
TZOFFSETFROM:-0600
TZOFFSETTO:-0700
TZNAME:MST
DTSTART:20231105T080000
END:STANDARD
BEGIN:DAYLIGHT
TZOFFSETFROM:-0700
TZOFFSETTO:-0600
TZNAME:MDT
DTSTART:20240310T090000
END:DAYLIGHT
BEGIN:STANDARD
TZOFFSETFROM:-0600
TZOFFSETTO:-0700
TZNAME:MST
DTSTART:20241103T080000
END:STANDARD
BEGIN:DAYLIGHT
TZOFFSETFROM:-0700
TZOFFSETTO:-0600
TZNAME:MDT
DTSTART:20250309T090000
END:DAYLIGHT
BEGIN:STANDARD
TZOFFSETFROM:-0600
TZOFFSETTO:-0700
TZNAME:MST
DTSTART:20251102T080000
END:STANDARD
END:VTIMEZONE
BEGIN:VEVENT
DTSTART;TZID=America/Boise:20240117T140000
DTEND;TZID=America/Boise:20240117T180000
DTSTAMP:20260421T130818
CREATED:20240109T221357Z
LAST-MODIFIED:20240109T221358Z
UID:2846-1705500000-1705514400@surelsplace.org
SUMMARY:DREAM BIG
DESCRIPTION:Claire Remsberg is creating a new painted wall piece using imagination and public engagement on a large panel of un-stretched canvas. Volunteers from the public will be encouraged to sketch using charcoal as they find narratives in the under-painted patterns. Artistic skills are not essential to participate. Claire will build on these ideas to develop the painting. She is offering public hours on a daily basis for the duration of the residency\, inviting interested people to participate in the process of finding images in the canvas. (The Green Box will have the same open hours\, so you can participate in that installation as well.)
URL:https://surelsplace.org/event/dream-big-8/
LOCATION:Surel’s Place\, 212 E. 33rd Street\, Garden City\, 83714\, United States
CATEGORIES:Community Participation,Open Studios
ATTACH;FMTTYPE=image/jpeg:https://surelsplace.org/wp-content/uploads/2024/01/REMSBERG_03-_Behold-My-Big-Fish-Claire-Remsberg.jpg
END:VEVENT
BEGIN:VEVENT
DTSTART;TZID=America/Boise:20240116T140000
DTEND;TZID=America/Boise:20240116T180000
DTSTAMP:20260421T130818
CREATED:20240109T221250Z
LAST-MODIFIED:20240109T221252Z
UID:2844-1705413600-1705428000@surelsplace.org
SUMMARY:DREAM BIG
DESCRIPTION:Claire Remsberg is creating a new painted wall piece using imagination and public engagement on a large panel of un-stretched canvas. Volunteers from the public will be encouraged to sketch using charcoal as they find narratives in the under-painted patterns. Artistic skills are not essential to participate. Claire will build on these ideas to develop the painting. She is offering public hours on a daily basis for the duration of the residency\, inviting interested people to participate in the process of finding images in the canvas. (The Green Box will have the same open hours\, so you can participate in that installation as well.)
URL:https://surelsplace.org/event/dream-big-7/
LOCATION:Surel’s Place\, 212 E. 33rd Street\, Garden City\, 83714\, United States
CATEGORIES:Community Participation,Open Studios
ATTACH;FMTTYPE=image/jpeg:https://surelsplace.org/wp-content/uploads/2024/01/REMSBERG_03-_Behold-My-Big-Fish-Claire-Remsberg.jpg
END:VEVENT
BEGIN:VEVENT
DTSTART;TZID=America/Boise:20240115T140000
DTEND;TZID=America/Boise:20240115T180000
DTSTAMP:20260421T130818
CREATED:20240109T194501Z
LAST-MODIFIED:20240109T221130Z
UID:2817-1705327200-1705341600@surelsplace.org
SUMMARY:DREAM BIG
DESCRIPTION:Claire Remsberg is creating a new painted wall piece using imagination and public engagement on a large panel of un-stretched canvas. Volunteers from the public will be encouraged to sketch using charcoal as they find narratives in the under-painted patterns. Artistic skills are not essential to participate. Claire will build on these ideas to develop the painting. Her working title for the piece is Dream Big. She is offering public hours on a daily basis for the duration of the residency\, inviting interested people to participate in the process of finding images in the canvas. (The Green Box will have the same open hours\, so you can participate in that installation as well.)
URL:https://surelsplace.org/event/dream-big-3/
LOCATION:Surel’s Place\, 212 E. 33rd Street\, Garden City\, 83714\, United States
CATEGORIES:Community Participation,Open Studios
ATTACH;FMTTYPE=image/jpeg:https://surelsplace.org/wp-content/uploads/2024/01/REMSBERG_03-_Behold-My-Big-Fish-Claire-Remsberg.jpg
END:VEVENT
BEGIN:VEVENT
DTSTART;TZID=America/Boise:20240114T130000
DTEND;TZID=America/Boise:20240114T160000
DTSTAMP:20260421T130818
CREATED:20240109T221040Z
LAST-MODIFIED:20240109T221041Z
UID:2841-1705237200-1705248000@surelsplace.org
SUMMARY:DREAM BIG
DESCRIPTION:Claire Remsberg is creating a new painted wall piece using imagination and public engagement on a large panel of un-stretched canvas. Volunteers from the public will be encouraged to sketch using charcoal as they find narratives in the under-painted patterns. Artistic skills are not essential to participate. Claire will build on these ideas to develop the painting. She is offering public hours on a daily basis for the duration of the residency\, inviting interested people to participate in the process of finding images in the canvas. (The Green Box will have the same open hours\, so you can participate in that installation as well.)
URL:https://surelsplace.org/event/dream-big-6/
LOCATION:Surel’s Place\, 212 E. 33rd Street\, Garden City\, 83714\, United States
CATEGORIES:Community Participation,Open Studios
ATTACH;FMTTYPE=image/jpeg:https://surelsplace.org/wp-content/uploads/2024/01/REMSBERG_03-_Behold-My-Big-Fish-Claire-Remsberg.jpg
END:VEVENT
BEGIN:VEVENT
DTSTART;TZID=America/Boise:20240113T130000
DTEND;TZID=America/Boise:20240113T160000
DTSTAMP:20260421T130818
CREATED:20240109T220543Z
LAST-MODIFIED:20240109T220920Z
UID:2835-1705150800-1705161600@surelsplace.org
SUMMARY:DREAM BIG
DESCRIPTION:Claire Remsberg is creating a new painted wall piece using imagination and public engagement on a large panel of un-stretched canvas. Volunteers from the public will be encouraged to sketch using charcoal as they find narratives in the under-painted patterns. Artistic skills are not essential to participate. Claire will build on these ideas to develop the painting. She is offering public hours on a daily basis for the duration of the residency\, inviting interested people to participate in the process of finding images in the canvas. (The Green Box will have the same open hours\, so you can participate in that installation as well.)
URL:https://surelsplace.org/event/dream-big-5/
LOCATION:Surel’s Place\, 212 E. 33rd Street\, Garden City\, 83714\, United States
CATEGORIES:Community Participation,Open Studios
ATTACH;FMTTYPE=image/jpeg:https://surelsplace.org/wp-content/uploads/2024/01/REMSBERG_03-_Behold-My-Big-Fish-Claire-Remsberg.jpg
END:VEVENT
BEGIN:VEVENT
DTSTART;TZID=America/Boise:20240112T140000
DTEND;TZID=America/Boise:20240112T180000
DTSTAMP:20260421T130818
CREATED:20240109T194002Z
LAST-MODIFIED:20240109T194103Z
UID:2813-1705068000-1705082400@surelsplace.org
SUMMARY:DREAM BIG
DESCRIPTION:Claire Remsberg is creating a new painted wall piece using imagination and public engagement on a large panel of un-stretched canvas. Volunteers from the public will be encouraged to sketch using charcoal as they find narratives in the under-painted patterns. Artistic skills are not essential to participate. Claire will build on these ideas to develop the painting. Her working title for the piece is Dream Big. She is offering public hours on a daily basis for the duration of the residency\, inviting interested people to participate in the process of finding images in the canvas. (The Green Box will have the same open hours\, so you can participate in that installation as well.)
URL:https://surelsplace.org/event/dream-big-2/
LOCATION:Surel’s Place\, 212 E. 33rd Street\, Garden City\, 83714\, United States
CATEGORIES:Community Participation,Open Studios
ATTACH;FMTTYPE=image/jpeg:https://surelsplace.org/wp-content/uploads/2024/01/REMSBERG_03-_Behold-My-Big-Fish-Claire-Remsberg.jpg
END:VEVENT
BEGIN:VEVENT
DTSTART;TZID=America/Boise:20240111T140000
DTEND;TZID=America/Boise:20240111T180000
DTSTAMP:20260421T130818
CREATED:20240109T193353Z
LAST-MODIFIED:20240109T194124Z
UID:2808-1704981600-1704996000@surelsplace.org
SUMMARY:DREAM BIG
DESCRIPTION:Claire Remsberg is creating a new painted wall piece using imagination and public engagement on a large panel of un-stretched canvas. Volunteers from the public will be encouraged to sketch using charcoal as they find narratives in the under-painted patterns. Artistic skills are not essential to participate. Claire will build on these ideas to develop the painting. She is offering public hours on a daily basis for the duration of the residency\, inviting interested people to participate in the process of finding images in the canvas. (The Green Box will have the same open hours\, so you can participate in that installation as well.)
URL:https://surelsplace.org/event/dream-big/
LOCATION:Surel’s Place\, 212 E. 33rd Street\, Garden City\, 83714\, United States
CATEGORIES:Community Participation,Open Studios
ATTACH;FMTTYPE=image/jpeg:https://surelsplace.org/wp-content/uploads/2024/01/REMSBERG_03-_Behold-My-Big-Fish-Claire-Remsberg.jpg
END:VEVENT
END:VCALENDAR