BEGIN:VCALENDAR
VERSION:2.0
PRODID:-//Surel&#039;s Place - ECPv6.15.20//NONSGML v1.0//EN
CALSCALE:GREGORIAN
METHOD:PUBLISH
X-WR-CALNAME:Surel&#039;s Place
X-ORIGINAL-URL:https://surelsplace.org
X-WR-CALDESC:Events for Surel&#039;s Place
REFRESH-INTERVAL;VALUE=DURATION:PT1H
X-Robots-Tag:noindex
X-PUBLISHED-TTL:PT1H
BEGIN:VTIMEZONE
TZID:America/Boise
BEGIN:DAYLIGHT
TZOFFSETFROM:-0700
TZOFFSETTO:-0600
TZNAME:MDT
DTSTART:20250309T090000
END:DAYLIGHT
BEGIN:STANDARD
TZOFFSETFROM:-0600
TZOFFSETTO:-0700
TZNAME:MST
DTSTART:20251102T080000
END:STANDARD
BEGIN:DAYLIGHT
TZOFFSETFROM:-0700
TZOFFSETTO:-0600
TZNAME:MDT
DTSTART:20260308T090000
END:DAYLIGHT
BEGIN:STANDARD
TZOFFSETFROM:-0600
TZOFFSETTO:-0700
TZNAME:MST
DTSTART:20261101T080000
END:STANDARD
BEGIN:DAYLIGHT
TZOFFSETFROM:-0700
TZOFFSETTO:-0600
TZNAME:MDT
DTSTART:20270314T090000
END:DAYLIGHT
BEGIN:STANDARD
TZOFFSETFROM:-0600
TZOFFSETTO:-0700
TZNAME:MST
DTSTART:20271107T080000
END:STANDARD
END:VTIMEZONE
BEGIN:VEVENT
DTSTART;TZID=America/Boise:20260128T190000
DTEND;TZID=America/Boise:20260128T203000
DTSTAMP:20260421T144007
CREATED:20251216T224637Z
LAST-MODIFIED:20260114T030101Z
UID:5487-1769626800-1769632200@surelsplace.org
SUMMARY:LETTERS ACROSS TIME: LANGUAGE\, CULTURE\, AND STORYTELLING
DESCRIPTION:ART TALK AND EXHIBITIONLETTERS ACROSS TIME: LANGUAGE\, CULTURE\, AND STORYTELLINGWednesday\, January 28th | 7:00pm – 8:30pm \n\n\n\nfree \n\n\n\nat Surel’s Place: 212 E. 33rd Street in Garden City \n\n\n\nSetareh Ghoreishi’s work as a designer and visual artist focuses on language\, identity\, and storytelling through writing systems—particularly non-Latin scripts. This project explores the intersection of ancient and contemporary writing systems through typographic experimentation. During the residency\,  Setareh Ghoreishi focused on developing a new body of work centered around a self-invented typeface that blends characteristics of Farsi\, English\, and Cuneiform scripts. This process involves hand sketching and digital font design. The result is a series of typographic compositions that invite viewers to reflect on cultural hybridity and communication. The work investigates how language shapes identity\, preserves culture\, and visually communicates across boundaries. \n\n\n\nBIOGRAPHY \n\n\n\nSetareh Ghoreishi (Michigan) is deeply rooted in the relationship between language\, culture\, and identity—particularly how these forces intersect through typography. She is a graphic designer and multidisciplinary digital media artist. After receiving her B.F.A. in Graphic Design from the University of Art in Tehran\, Iran\, she migrated to the United States where she currently lives. In her work\, she investigates cultural disparities\, most specifically between the United States and Iran. \n\n\n\n“I am fascinated by the way visual language can act as a vessel for memory\, a tool for storytelling\, and a bridge across cultural and linguistic boundaries\,” Setareh elaborates. “Typography\, for me\, is not just a system of design and letters; it is a living form that carries emotion\, history\, and context.” \n\n\n\nAfter moving to the United States\, Setareh continued her education and acquired an MFA in Graphic Design from Florida Atlantic University and an MFA in Art and Technology from the University of Florida. This led her to make video art installation and use digital technology to explore the role of visual design in the interaction of cultural and social issues. Through the lens of her own experience\, each country’s cultural and social relationships are examined. \n\n\n\n\n\nThank you to Setareh Ghoreishi’s Residency Sponsors:
URL:https://surelsplace.org/event/letters-across-time-language-culture-and-storytelling/
LOCATION:Surel’s Place\, 212 E. 33rd Street\, Garden City\, 83714\, United States
CATEGORIES:Exhibition and Artist Talk
ATTACH;FMTTYPE=image/jpeg:https://surelsplace.org/wp-content/uploads/2025/11/Ghoreishis-work3.jpg
END:VEVENT
END:VCALENDAR