BEGIN:VCALENDAR
VERSION:2.0
PRODID:-//Surel&#039;s Place - ECPv6.15.20//NONSGML v1.0//EN
CALSCALE:GREGORIAN
METHOD:PUBLISH
X-ORIGINAL-URL:https://surelsplace.org
X-WR-CALDESC:Events for Surel&#039;s Place
REFRESH-INTERVAL;VALUE=DURATION:PT1H
X-Robots-Tag:noindex
X-PUBLISHED-TTL:PT1H
BEGIN:VTIMEZONE
TZID:America/Boise
BEGIN:DAYLIGHT
TZOFFSETFROM:-0700
TZOFFSETTO:-0600
TZNAME:MDT
DTSTART:20250309T090000
END:DAYLIGHT
BEGIN:STANDARD
TZOFFSETFROM:-0600
TZOFFSETTO:-0700
TZNAME:MST
DTSTART:20251102T080000
END:STANDARD
BEGIN:DAYLIGHT
TZOFFSETFROM:-0700
TZOFFSETTO:-0600
TZNAME:MDT
DTSTART:20260308T090000
END:DAYLIGHT
BEGIN:STANDARD
TZOFFSETFROM:-0600
TZOFFSETTO:-0700
TZNAME:MST
DTSTART:20261101T080000
END:STANDARD
BEGIN:DAYLIGHT
TZOFFSETFROM:-0700
TZOFFSETTO:-0600
TZNAME:MDT
DTSTART:20270314T090000
END:DAYLIGHT
BEGIN:STANDARD
TZOFFSETFROM:-0600
TZOFFSETTO:-0700
TZNAME:MST
DTSTART:20271107T080000
END:STANDARD
END:VTIMEZONE
BEGIN:VEVENT
DTSTART;TZID=America/Boise:20260327T190000
DTEND;TZID=America/Boise:20260327T203000
DTSTAMP:20260421T112712
CREATED:20260215T173126Z
LAST-MODIFIED:20260305T202351Z
UID:5673-1774638000-1774643400@surelsplace.org
SUMMARY:Exhibition & Art Talk: Bold Simplicity
DESCRIPTION:EXHIBITION & ART TALKBOLD SIMPLICITYFriday\, March 27th  |  7:00 – 8:30pm \n\n\n\nfree \n\n\n\nDuring his residency at Surel’s Place\, Hector Beven immersed himself in the parks\, riverbanks\, and neighborhoods surrounding Garden City and Boise. His practice relies on extended time outdoors\, observing light\, movement\, and the personality of place. He spent long hours sketching and painting along the Boise River Greenbelt and nearby landscapes\, returning to the studio to translate these studies into larger\, more meditative works. \n\n\n\nThis series of paintings embodies the character of the local environment–both the beauty of the natural landscape and also the energy and spirit Hector encountered in daily interactions with residents. “By emphasizing bold brushwork and expressive simplification\, I want each work to feel alive with the persona of its subject\, whether that be a tree\, river bend\, or overlooked corner of the city.” \n\n\n\nThis show presents the paintings created during Hector’s stay and sparks conversation about how an “outsider” artist perceives and interprets Garden City. His hope is that you recognize familiar places in new ways\, opening dialogue about the unique character of your home environment. \n\n\n\n\n\n\n\nThank you to Hector Beven’s Residency Sponsors:
URL:https://surelsplace.org/event/exhibit-art-talk-bold-simplicity/
LOCATION:Surel’s Place\, 212 E. 33rd Street\, Garden City\, 83714\, United States
CATEGORIES:Exhibition and Artist Talk
ATTACH;FMTTYPE=image/jpeg:https://surelsplace.org/wp-content/uploads/2025/11/Beven_Miller-Farm.jpg
END:VEVENT
END:VCALENDAR