BEGIN:VCALENDAR
VERSION:2.0
PRODID:-//Surel&#039;s Place - ECPv6.15.20//NONSGML v1.0//EN
CALSCALE:GREGORIAN
METHOD:PUBLISH
X-ORIGINAL-URL:https://surelsplace.org
X-WR-CALDESC:Events for Surel&#039;s Place
REFRESH-INTERVAL;VALUE=DURATION:PT1H
X-Robots-Tag:noindex
X-PUBLISHED-TTL:PT1H
BEGIN:VTIMEZONE
TZID:America/Boise
BEGIN:DAYLIGHT
TZOFFSETFROM:-0700
TZOFFSETTO:-0600
TZNAME:MDT
DTSTART:20250309T090000
END:DAYLIGHT
BEGIN:STANDARD
TZOFFSETFROM:-0600
TZOFFSETTO:-0700
TZNAME:MST
DTSTART:20251102T080000
END:STANDARD
BEGIN:DAYLIGHT
TZOFFSETFROM:-0700
TZOFFSETTO:-0600
TZNAME:MDT
DTSTART:20260308T090000
END:DAYLIGHT
BEGIN:STANDARD
TZOFFSETFROM:-0600
TZOFFSETTO:-0700
TZNAME:MST
DTSTART:20261101T080000
END:STANDARD
BEGIN:DAYLIGHT
TZOFFSETFROM:-0700
TZOFFSETTO:-0600
TZNAME:MDT
DTSTART:20270314T090000
END:DAYLIGHT
BEGIN:STANDARD
TZOFFSETFROM:-0600
TZOFFSETTO:-0700
TZNAME:MST
DTSTART:20271107T080000
END:STANDARD
END:VTIMEZONE
BEGIN:VEVENT
DTSTART;TZID=America/Boise:20260430T190000
DTEND;TZID=America/Boise:20260430T203000
DTSTAMP:20260421T112315
CREATED:20260319T205241Z
LAST-MODIFIED:20260419T203714Z
UID:5777-1777575600-1777581000@surelsplace.org
SUMMARY:Exhibit and Art Talk: Trash Puppets
DESCRIPTION:EXHIBIT & ART TALKTRASH PUPPETSThursday\, April 30th | 7:00pm – 8:30pmfree \n\n\n\nat Surel’s Place: 212 E. 33rd Street in Garden City \n\n\n\nDuring his residency at Surel’s Place\, Karl Erickson created a series of puppet-sculptures and experimental animations about waste along the Boise River Greenbelt. He collected trash on the shores of the river and assembled these objects into puppet-like figures. He then digitized them using 3D scanning processes. These digital “trash-puppets” will sing\, dance\, and tell stories of their unexpected journeys along the river\, personifying the entanglements that bring human-generated material into contact with the more-than-human. \n\n\n\nThe Boise River simultaneously connects and separates (Garden City on one side\, Boise on the other!) and is a powerful nexus for gatherings and departures. What do we bring with us to the river and what do we leave behind–materially\, culturally\, politically? Who handles this material\, and whose stories are told or forgotten in the process? The trash-puppets will act as witnesses of these overlooked narratives\, ultimately revealing evidence of a global system in which nothing is truly separate. \n\n\n\nBIOGRAPHY \n\n\n\nKarl Erickson (Tennessee) is an Associate Professor of Digital Art at Rhodes College. He received his MFA from California Institute of the Arts and his BFA from Wayne State University. He was raised in the Detroit-area of Michigan. He makes digital animations\, videos\, installations\, and audio/visual performances. His screen-based work takes place in galleries\, museums\, film festivals and music venues. \n\n\n\nKarl’s art is about recognizing the agency of all the other-than-human entities with which we share the Earth. This includes plants and animals\, as well as machines\, “inanimate matter\,” electricity\, waste\, the macroscopic and the microscopic. The complex systems he uses in his art-making\, from photogrammetry to modular synthesizers to data analysis\, are analogous to the complexity of the ecosystem. \n\n\n\nKarl’s animation Know No Now has been screened at the 2023 LINOLEUM Animation and Media Art Festival in Kyiv\, Ukraine\, Chroma Art Film Festival in Miami\, FL (where it won the 2023 award for Best Animation)\, and the 2023 West Virginia Mountaineer Short Film Festival. He has been an artist-in-residence at Hub Feenix in Finland\, The Arctic Circle (twice!)\, Loop Art\, Plyspace\, and Signal Culture. He is a 2025 recipient of a Current Art Fund award from Tri-Star Arts. \n\n\n\nThank you to Karl Erickson’s Residency Sponsors:
URL:https://surelsplace.org/event/exhibit-and-art-talk-trash-puppets/
LOCATION:Surel’s Place\, 212 E. 33rd Street\, Garden City\, 83714\, United States
CATEGORIES:Exhibition and Artist Talk
ATTACH;FMTTYPE=image/png:https://surelsplace.org/wp-content/uploads/2026/03/RockAroundRock0456.png
END:VEVENT
END:VCALENDAR