BEGIN:VCALENDAR
VERSION:2.0
PRODID:-//Surel&#039;s Place - ECPv6.15.20//NONSGML v1.0//EN
CALSCALE:GREGORIAN
METHOD:PUBLISH
X-ORIGINAL-URL:https://surelsplace.org
X-WR-CALDESC:Events for Surel&#039;s Place
REFRESH-INTERVAL;VALUE=DURATION:PT1H
X-Robots-Tag:noindex
X-PUBLISHED-TTL:PT1H
BEGIN:VTIMEZONE
TZID:America/Boise
BEGIN:DAYLIGHT
TZOFFSETFROM:-0700
TZOFFSETTO:-0600
TZNAME:MDT
DTSTART:20240310T090000
END:DAYLIGHT
BEGIN:STANDARD
TZOFFSETFROM:-0600
TZOFFSETTO:-0700
TZNAME:MST
DTSTART:20241103T080000
END:STANDARD
BEGIN:DAYLIGHT
TZOFFSETFROM:-0700
TZOFFSETTO:-0600
TZNAME:MDT
DTSTART:20250309T090000
END:DAYLIGHT
BEGIN:STANDARD
TZOFFSETFROM:-0600
TZOFFSETTO:-0700
TZNAME:MST
DTSTART:20251102T080000
END:STANDARD
BEGIN:DAYLIGHT
TZOFFSETFROM:-0700
TZOFFSETTO:-0600
TZNAME:MDT
DTSTART:20260308T090000
END:DAYLIGHT
BEGIN:STANDARD
TZOFFSETFROM:-0600
TZOFFSETTO:-0700
TZNAME:MST
DTSTART:20261101T080000
END:STANDARD
END:VTIMEZONE
BEGIN:VEVENT
DTSTART;TZID=America/Boise:20251005T100000
DTEND;TZID=America/Boise:20251005T130000
DTSTAMP:20260421T205719
CREATED:20250909T161023Z
LAST-MODIFIED:20251002T171646Z
UID:5103-1759658400-1759669200@surelsplace.org
SUMMARY:"Heavy Weather:" Garth Claassen Open Gallery Hours
DESCRIPTION:FLASH SHOW GALLERY HOURSHEAVY WEATHER with GARTH CLAASSENSunday\, October 5th | 10:00am – 1:00pm \n\n\n\nfree \n\n\n\nat Surel’s Place: 212 E. 33rd Street in Garden City \n\n\n\n\n\n\n\nARTIST STATEMENT \n\n\n\nI work a lot in mixed media and often make pieces that consist of multiple\, regular parts. The layout is somewhat like the panels in a comic book or graphic novel\, and it implies a narrative\, although there is no coherent story arc. Sometimes small printouts of earlier works are collaged onto pieces along with related sketches\, other images\, and simple abstract shapes. I am interested in process\, specifically the exploitation of chance textures that arise during the making of the work. \n\n\n\nMuch of my work explores the tension between flat shapes and modeled forms\, jagged and rounded contours\, strong value contrasts\, and dramatic changes in scale. This sense of struggle and conflict prompted my exhibition title\, Heavy Weather. The bulbous white forms were partly inspired by Alfred Jarry’s King Ubu\, a comically vulgar and satirical play first performed in 1895. The flatter black shapes are partly indebted to Eugene Ionescu’s absurdist play\, Rhinoceros\, of 1950. The former play was probably a critique of imperialism and corruption\, and the latter is considered an allegory of the rise of fascism\, but I have made no attempt to illustrate the plot of either play. \n\n\n\nThe ambiguity of the imagery is not intended to confuse the beholder (although it may do that). Rather\, it is an invitation to viewers to construct their own stories based on what they see in my work. \n\n\n\nBIOGRAPHY \n\n\n\nGarth Claassen studied art at the University of Natal\, Pietermaritzburg\, South Africa\, earning a BAFA in 1976\, with majors in ceramics\, art history\, and English\, and then a Postgraduate Diploma in Fine Arts. \n\n\n\nIn 1982 Claassen was awarded a Fulbright Fellowship to study art history at Indiana University in Bloomington\, graduating in 1991 with a doctorate in the history of modern art. During his time at Indiana\, he continued to make ceramic sculpture\, and mixed-media abstract collages. In 1989 he returned to South Africa and taught there for five years. Claassen joined The College of Idaho in 1994. He taught art history\, life drawing\, and painting. His attitude to making art has been deeply influenced by his academic studies and teaching experience. \n\n\n\nClaassen’s work has been included in three Idaho Triennial Exhibitions—1995\, 1998\, 2011\, and he was awarded Idaho Commission of the Arts Fellowships for 2001\, 2009\, and 2023. He has exhibited at the College of Idaho\, the College of Southern Idaho\, the Stewart Gallery in Boise\, the Boise Art Museum\, the Visual Arts Collective in Garden City\, MING Studios in Boise\, the Art Association Gallery\, Jackson Hole\, Wyoming\, the Yellowstone Art Museum\, Billings\, Montana\, and the Prichard Gallery\, University of Idaho.
URL:https://surelsplace.org/event/heavy-weather-garth-claassen-open-gallery-hours/
LOCATION:Surel’s Place\, 212 E. 33rd Street\, Garden City\, 83714\, United States
CATEGORIES:Exhibition
ATTACH;FMTTYPE=image/jpeg:https://surelsplace.org/wp-content/uploads/2025/09/HW-3.jpg
END:VEVENT
END:VCALENDAR