BEGIN:VCALENDAR
VERSION:2.0
PRODID:-//Surel&#039;s Place - ECPv6.15.20//NONSGML v1.0//EN
CALSCALE:GREGORIAN
METHOD:PUBLISH
X-ORIGINAL-URL:https://surelsplace.org
X-WR-CALDESC:Events for Surel&#039;s Place
REFRESH-INTERVAL;VALUE=DURATION:PT1H
X-Robots-Tag:noindex
X-PUBLISHED-TTL:PT1H
BEGIN:VTIMEZONE
TZID:America/Boise
BEGIN:DAYLIGHT
TZOFFSETFROM:-0700
TZOFFSETTO:-0600
TZNAME:MDT
DTSTART:20250309T090000
END:DAYLIGHT
BEGIN:STANDARD
TZOFFSETFROM:-0600
TZOFFSETTO:-0700
TZNAME:MST
DTSTART:20251102T080000
END:STANDARD
BEGIN:DAYLIGHT
TZOFFSETFROM:-0700
TZOFFSETTO:-0600
TZNAME:MDT
DTSTART:20260308T090000
END:DAYLIGHT
BEGIN:STANDARD
TZOFFSETFROM:-0600
TZOFFSETTO:-0700
TZNAME:MST
DTSTART:20261101T080000
END:STANDARD
BEGIN:DAYLIGHT
TZOFFSETFROM:-0700
TZOFFSETTO:-0600
TZNAME:MDT
DTSTART:20270314T090000
END:DAYLIGHT
BEGIN:STANDARD
TZOFFSETFROM:-0600
TZOFFSETTO:-0700
TZNAME:MST
DTSTART:20271107T080000
END:STANDARD
END:VTIMEZONE
BEGIN:VEVENT
DTSTART;TZID=America/Boise:20260529T190000
DTEND;TZID=America/Boise:20260529T203000
DTSTAMP:20260419T212231
CREATED:20260419T232139Z
LAST-MODIFIED:20260419T233401Z
UID:5930-1780081200-1780086600@surelsplace.org
SUMMARY:Final Event & Art Talk: Sycamore
DESCRIPTION:FINAL EVENT & ART TALK \n\n\n\nSYCAMORE \n\n\n\nFriday\, May 29th | 7:00pm – 8:30pm \n\n\n\nfree \n\n\n\nSycamore is choreographic work in-progress that Kara Wilkes (dancer/dance maker) began creating in 2022. Featuring four solos\, the piece continues her MFA in Dance research on embodied generational trauma with a focus on addiction and healing. Sycamore is an interdisciplinary work offering live vocals\, recorded soundscapes/music\, props/sets that interact with gesture-based dance movement and contemporary dance vocabulary. The four solos highlight distinct characters: The Addict\, The Lost Child\, The Hero Child\, The Co-dependent; their journeys illuminate the complex experiences of addicts and/or those who have been exposed to addiction (alcoholism in particular). While at Surel’s Place\, Kara has developed two of the four sections; each will be eight to ten minutes in length when complete.“I have always envisioned Sycamore as having a small modular set with the audience sitting close to the action; the four sections take place ‘in a house’ where pieces of furniture\, props and projections support the dancers’ storytelling\,” Kara explains. \n\n\n\nThank you to Kara Wilke’s Residency Sponsors:
URL:https://surelsplace.org/event/final-event-art-talk-sycamore/
LOCATION:Surel’s Place\, 212 E. 33rd Street\, Garden City\, 83714\, United States
CATEGORIES:Final Event
ATTACH;FMTTYPE=image/jpeg:https://surelsplace.org/wp-content/uploads/2026/04/thesis-1.jpg
END:VEVENT
END:VCALENDAR