BEGIN:VCALENDAR
VERSION:2.0
PRODID:-//Surel&#039;s Place - ECPv6.15.20//NONSGML v1.0//EN
CALSCALE:GREGORIAN
METHOD:PUBLISH
X-ORIGINAL-URL:https://surelsplace.org
X-WR-CALDESC:Events for Surel&#039;s Place
REFRESH-INTERVAL;VALUE=DURATION:PT1H
X-Robots-Tag:noindex
X-PUBLISHED-TTL:PT1H
BEGIN:VTIMEZONE
TZID:America/Boise
BEGIN:DAYLIGHT
TZOFFSETFROM:-0700
TZOFFSETTO:-0600
TZNAME:MDT
DTSTART:20240310T090000
END:DAYLIGHT
BEGIN:STANDARD
TZOFFSETFROM:-0600
TZOFFSETTO:-0700
TZNAME:MST
DTSTART:20241103T080000
END:STANDARD
BEGIN:DAYLIGHT
TZOFFSETFROM:-0700
TZOFFSETTO:-0600
TZNAME:MDT
DTSTART:20250309T090000
END:DAYLIGHT
BEGIN:STANDARD
TZOFFSETFROM:-0600
TZOFFSETTO:-0700
TZNAME:MST
DTSTART:20251102T080000
END:STANDARD
BEGIN:DAYLIGHT
TZOFFSETFROM:-0700
TZOFFSETTO:-0600
TZNAME:MDT
DTSTART:20260308T090000
END:DAYLIGHT
BEGIN:STANDARD
TZOFFSETFROM:-0600
TZOFFSETTO:-0700
TZNAME:MST
DTSTART:20261101T080000
END:STANDARD
END:VTIMEZONE
BEGIN:VEVENT
DTSTART;TZID=America/Boise:20251218T180000
DTEND;TZID=America/Boise:20251218T200000
DTSTAMP:20260421T095119
CREATED:20251118T231944Z
LAST-MODIFIED:20251216T185330Z
UID:5346-1766080800-1766088000@surelsplace.org
SUMMARY:BINGO!
DESCRIPTION:As the holidays draw nigh\, join us for an evening of classic bingo in the basement at the Shrine Social Club! All proceeds directly support Surel’s Place\, so come purchase a board (or multiple boards) for the chance to win some great prizes. BINGO! \n\n\n\nPrizes include:🔵 A limited edition artist book by Artist-in-Residence Alumna Song Lu🔴 A Shrinky Dink throw back (did you know the next Shrinky Dink exhibition is coming June 6th\, 2026?)⚪️ Free Surel’s Place workshop admission🟢 An iconic tabletop gum ball machine!🟡 A certificate to The Commons Climbing Gym for 2 starter packages\, including day passes\, rental harnesses\, rental shoes\, and belay lessons!🔵 A pair of show tickets to a show at the Shrine Social Club⚫️ and MORE! BINGO!
URL:https://surelsplace.org/event/bingo/
LOCATION:The Shrine Social Club\, 1118 W. Idaho St.\, Boise\, Idaho\, 83702\, United States
CATEGORIES:Fundraiser
ATTACH;FMTTYPE=image/png:https://surelsplace.org/wp-content/uploads/2025/11/Bingo-bounce-scaled.png
END:VEVENT
BEGIN:VEVENT
DTSTART;TZID=America/Boise:20251202T000000
DTEND;TZID=America/Boise:20251202T235959
DTSTAMP:20260421T095119
CREATED:20251118T221424Z
LAST-MODIFIED:20251202T044350Z
UID:5326-1764633600-1764719999@surelsplace.org
SUMMARY:GIVING TUESDAY
DESCRIPTION:GIVE\n\n\n\n\nIt’s a heartful day of giving\, and WE NEED YOU. \n\n\n\nReflecting on our past\, facing our present\, and peering into the future\, Surel’s Place has a lot to celebrate and a lot more to look forward to. \n\n\n\nHelp us continue to do the important work of supporting artists by providing them time and space to explore their creative process – cultivating a connected\, vibrant\, and inspiring community. \n\n\n\n\n\n\n\n \n\n\n\nPlease support our FUTURE by helping bring our upcoming artists-in-residence to the community. Our hardworking artists provide the public with interesting\, accessible\, inclusive\, and professional arts experiences\, including performances\, readings\, exhibitions\, and workshops. We would be nowhere without our artists. \n\n\n\nARTISTS-IN-RESIDENCEJanuary – May\, 2026 \n\n\n\nSETAREH GHOREISHIVISUAL | MICHIGAN \n\n\n\nANDREA PARSONPERFORMANCE | OREGON \n\n\n\nHECTOR MIGUEL BEVENVISUAL | OKLAHOMA \n\n\n\nKARL ERICKSONVISUAL | TENNESSEE \n\n\n\nKARA WILKESCHOREOGRAPHY | NORTH CAROLINA \n\n\n\n\nGIVE\n\n\n\n\nTHANK YOU!\n\n\n\n\n\n\n\nWe have a MATCH!The first donors to contribute $1\,000 will be matched by the generosity of our neighbors and local Garden City business\, Tumbleweed Bicycle Co. \n\n\n\n\n\n\n\nThank you\, Tumbleweed Bicycle Co.!!
URL:https://surelsplace.org/event/giving-tuesday/
CATEGORIES:Fundraiser
ATTACH;FMTTYPE=image/png:https://surelsplace.org/wp-content/uploads/2025/11/GT-25-glow-black-rectangle.png
END:VEVENT
BEGIN:VEVENT
DTSTART;TZID=America/Boise:20250628T180000
DTEND;TZID=America/Boise:20250628T213000
DTSTAMP:20260421T095119
CREATED:20250521T025153Z
LAST-MODIFIED:20250628T194318Z
UID:4661-1751133600-1751146200@surelsplace.org
SUMMARY:SUREL’S PLACE GARDEN PARTY FEATURING ANDREW NEMR
DESCRIPTION:SUMMER FUNDRAISING EVENTSUREL’S PLACE GARDEN PARTY FEATURING ANDREW NEMRSaturday\, June 28th \n\n\n\n6:00pm$145  |  Dinner + Wine + Show8:00pm$45  |  Show \n\n\n\nat Surel’s Place: 212 E. 33rd Street in Garden City \n\n\n\nSurel’s Place is honored to host Artist-in-Residence Alumnus ANDREW NEMR (2015) accompanied by local musician Justin Nielsen for an early summer evening performance in the back garden of Surel’s Place. Join us for a world-class tap dance performance or make it a combo – with dinner featuring delicious Puerto Rican food from our neighbors at Wepa and wine by Proletariat Wine Company. Summer in the back garden at Surel’s Place is always magical\, so we hope you’ll join us for this special performance. \n\n\n\nBIOGRAPHY \n\n\n\nMentored by Gregory Hines\, Andrew Nemr is an international artist\, teacher\, and speaker. His work has crossed music\, dance\, theatre\, film\, and the visual arts\, exploring art as a vehicle for storytelling and community building. Described as “A masterly tapper” by The New York Times\, Andrew is recorded on the Grammy nominated recording Itsbynne Reel by Dave Eggar\, and is the co-founder of the Tap Legacy(tM) Foundation\, Inc. (along with Hines.) Andrew’s work has been recognized with numerous awards\, grants\, fellowships\, and commissions and is the topic of the award-winning documentary short film Identity: The Andrew Nemr Story. He writes regularly at The Notes with Andrew Nemr and considers his highest personal achievement his ability to wiggle his ears. \n\n\n\nThank you to our generous sponsors for this event: \n\n\n\n\n\n\n\n\n\n\n\n\n\n\n\nThank you to our generous garden sponsors: \n\n\n\n\n\n\n\n\n\n\n\n\n\n\n\n\n\n\n\n\n\nGarden Party Digital ProgramDownload
URL:https://surelsplace.org/event/surels-place-garden-party-featuring-andrew-nemr/
LOCATION:Surel’s Place\, 212 E. 33rd Street\, Garden City\, 83714\, United States
CATEGORIES:Fundraiser,Performance
ATTACH;FMTTYPE=image/webp:https://surelsplace.org/wp-content/uploads/2025/05/waxAndrew_1747698993-scaled.webp
END:VEVENT
END:VCALENDAR