BEGIN:VCALENDAR
VERSION:2.0
PRODID:-//Surel&#039;s Place - ECPv6.15.20//NONSGML v1.0//EN
CALSCALE:GREGORIAN
METHOD:PUBLISH
X-ORIGINAL-URL:https://surelsplace.org
X-WR-CALDESC:Events for Surel&#039;s Place
REFRESH-INTERVAL;VALUE=DURATION:PT1H
X-Robots-Tag:noindex
X-PUBLISHED-TTL:PT1H
BEGIN:VTIMEZONE
TZID:America/Boise
BEGIN:DAYLIGHT
TZOFFSETFROM:-0700
TZOFFSETTO:-0600
TZNAME:MDT
DTSTART:20230312T090000
END:DAYLIGHT
BEGIN:STANDARD
TZOFFSETFROM:-0600
TZOFFSETTO:-0700
TZNAME:MST
DTSTART:20231105T080000
END:STANDARD
BEGIN:DAYLIGHT
TZOFFSETFROM:-0700
TZOFFSETTO:-0600
TZNAME:MDT
DTSTART:20240310T090000
END:DAYLIGHT
BEGIN:STANDARD
TZOFFSETFROM:-0600
TZOFFSETTO:-0700
TZNAME:MST
DTSTART:20241103T080000
END:STANDARD
BEGIN:DAYLIGHT
TZOFFSETFROM:-0700
TZOFFSETTO:-0600
TZNAME:MDT
DTSTART:20250309T090000
END:DAYLIGHT
BEGIN:STANDARD
TZOFFSETFROM:-0600
TZOFFSETTO:-0700
TZNAME:MST
DTSTART:20251102T080000
END:STANDARD
END:VTIMEZONE
BEGIN:VEVENT
DTSTART;TZID=America/Boise:20240607T173000
DTEND;TZID=America/Boise:20240607T203000
DTSTAMP:20260422T170259
CREATED:20240316T200834Z
LAST-MODIFIED:20240316T201315Z
UID:2996-1717781400-1717792200@surelsplace.org
SUMMARY:First Friday Art & Studio Stroll
DESCRIPTION:Garden City’s Surel L. Mitchell Live-Work-Create District is bustling with artists\, artisans\, and creative\, artisanal businesses. Come to our neighborhood on the river as much as you can\, but especially during our First Friday Art & Studio Stroll. You’ll find many locations open during the event\, including artist studios\, restaurants\, and businesses featuring art events. In addition\, there will be special events at many locations\, including exhibits\, readings\, and performances. \n\n\n\nMore information about the next First Friday\, is available at The LWC District First Friday Event Page on Facebook. \n\n\n\nSee below to view an interactive Google map of the First Friday participating venues.
URL:https://surelsplace.org/event/first-friday-art-studio-stroll-2/
LOCATION:Idaho
CATEGORIES:Community Participation,Exhibition,Installations,Open Studios,Special Event
ATTACH;FMTTYPE=image/png:https://surelsplace.org/wp-content/uploads/2024/02/FFASS-white-w-text-01.png
END:VEVENT
BEGIN:VEVENT
DTSTART;TZID=America/Boise:20240621T160000
DTEND;TZID=America/Boise:20240621T190000
DTSTAMP:20260422T170259
CREATED:20240616T035640Z
LAST-MODIFIED:20240616T041557Z
UID:3368-1718985600-1718996400@surelsplace.org
SUMMARY:Open Studio: Kit Julianto
DESCRIPTION:Come view painter Kit Julianto’s works in progress as he prepares for his exhibition “YOOTI (YO-DI) – TO RISE IN CULTURE ABSTRACTED” opening July 8th. Opening honor song will be by Caylon Hedgepeth. \n\n\n\nBIOGRAPHYKit Julianto\, Yooti\, is an enrolled member of the Shoshone Paiute Tribes of the Duck Valley Indian Reservation and a descendent of the Navajo nation. He holds a BFA in Studio Arts from the Institute of American Indian Arts of Santa Fe\, New Mexico (2010) and a MFA in Secondary Education from Grand Canyon University (2018). He teaches Art\, grades Pre-K to 12th at the Owyhee Combined Schools in Elko County School District. He believes in empowering youth to express themselves through different mediums such as painting\, watercolor\, pottery\, drawing and art foundations in school and through workshops. His works reflect upon Native American culture\, music\, tradition\, and storytelling\, through various mediums\, vibrant colors\, and texture. His works of art have been shared throughout many Native and non Native communities\, galleries\, and gatherings. \n\n\n\nThis programming is supported in part by the Western States Arts Federation (WESTAF) and the National Endowment for the Arts and in partnership with the Indigenous Idaho Alliance. \n\n\n\nSurel’s Place is accessible by wheelchair. 
URL:https://surelsplace.org/event/open-studio-kit-julianto/
LOCATION:Surel’s Place\, 212 E. 33rd Street\, Garden City\, 83714\, United States
CATEGORIES:Open Studios
ATTACH;FMTTYPE=image/jpeg:https://surelsplace.org/wp-content/uploads/2024/05/24-06-julianto-Facebook-Event-Banner.jpg
END:VEVENT
BEGIN:VEVENT
DTSTART;TZID=America/Boise:20240622T160000
DTEND;TZID=America/Boise:20240622T190000
DTSTAMP:20260422T170259
CREATED:20240616T040933Z
LAST-MODIFIED:20240616T041637Z
UID:3377-1719072000-1719082800@surelsplace.org
SUMMARY:Open Studio: Kit Julianto
DESCRIPTION:Come view painter Kit Julianto’s works in progress as he prepares for his exhibition “YOOTI (YO-DI) – TO RISE IN CULTURE ABSTRACTED” opening July 8th. Opening flute song will be by Kit Julianto. \n\n\n\nBIOGRAPHYKit Julianto\, Yooti\, is an enrolled member of the Shoshone Paiute Tribes of the Duck Valley Indian Reservation and a descendent of the Navajo nation. He holds a BFA in Studio Arts from the Institute of American Indian Arts of Santa Fe\, New Mexico (2010) and a MFA in Secondary Education from Grand Canyon University (2018). He teaches Art\, grades Pre-K to 12th at the Owyhee Combined Schools in Elko County School District. He believes in empowering youth to express themselves through different mediums such as painting\, watercolor\, pottery\, drawing and art foundations in school and through workshops. His works reflect upon Native American culture\, music\, tradition\, and storytelling\, through various mediums\, vibrant colors\, and texture. His works of art have been shared throughout many Native and non Native communities\, galleries\, and gatherings. \n\n\n\nThis programming is supported in part by the Western States Arts Federation (WESTAF) and the National Endowment for the Arts and in partnership with the Indigenous Idaho Alliance. \n\n\n\nSurel’s Place is accessible by wheelchair.
URL:https://surelsplace.org/event/open-studio-kit-julianto-2/
LOCATION:Surel’s Place\, 212 E. 33rd Street\, Garden City\, 83714\, United States
CATEGORIES:Open Studios
ATTACH;FMTTYPE=image/jpeg:https://surelsplace.org/wp-content/uploads/2024/05/24-06-julianto-Facebook-Event-Banner.jpg
END:VEVENT
END:VCALENDAR