BEGIN:VCALENDAR
VERSION:2.0
PRODID:-//Surel&#039;s Place - ECPv6.15.20//NONSGML v1.0//EN
CALSCALE:GREGORIAN
METHOD:PUBLISH
X-WR-CALNAME:Surel&#039;s Place
X-ORIGINAL-URL:https://surelsplace.org
X-WR-CALDESC:Events for Surel&#039;s Place
REFRESH-INTERVAL;VALUE=DURATION:PT1H
X-Robots-Tag:noindex
X-PUBLISHED-TTL:PT1H
BEGIN:VTIMEZONE
TZID:America/Boise
BEGIN:DAYLIGHT
TZOFFSETFROM:-0700
TZOFFSETTO:-0600
TZNAME:MDT
DTSTART:20230312T090000
END:DAYLIGHT
BEGIN:STANDARD
TZOFFSETFROM:-0600
TZOFFSETTO:-0700
TZNAME:MST
DTSTART:20231105T080000
END:STANDARD
BEGIN:DAYLIGHT
TZOFFSETFROM:-0700
TZOFFSETTO:-0600
TZNAME:MDT
DTSTART:20240310T090000
END:DAYLIGHT
BEGIN:STANDARD
TZOFFSETFROM:-0600
TZOFFSETTO:-0700
TZNAME:MST
DTSTART:20241103T080000
END:STANDARD
BEGIN:DAYLIGHT
TZOFFSETFROM:-0700
TZOFFSETTO:-0600
TZNAME:MDT
DTSTART:20250309T090000
END:DAYLIGHT
BEGIN:STANDARD
TZOFFSETFROM:-0600
TZOFFSETTO:-0700
TZNAME:MST
DTSTART:20251102T080000
END:STANDARD
END:VTIMEZONE
BEGIN:VEVENT
DTSTART;TZID=America/Boise:20241206T173000
DTEND;TZID=America/Boise:20241206T203000
DTSTAMP:20260422T085710
CREATED:20240316T201828Z
LAST-MODIFIED:20250422T162154Z
UID:3005-1733506200-1733517000@surelsplace.org
SUMMARY:First Friday Art & Studio Stroll
DESCRIPTION:Garden City’s Surel L. Mitchell Live-Work-Create District is bustling with artists\, artisans\, and creative\, artisanal businesses. Come to our neighborhood on the river as much as you can\, but especially during our First Friday Art & Studio Stroll.  \n\n\n\nMore information is available on The Live-Work-Create GC Page on Facebook. \n\n\n\nSee below to view an interactive Google map of the First Friday participating venues.
URL:https://surelsplace.org/event/first-friday-art-studio-stroll-5/
LOCATION:Idaho
CATEGORIES:Community Participation,Exhibition,Installations,Open Studios,Special Event
ATTACH;FMTTYPE=image/png:https://surelsplace.org/wp-content/uploads/2024/02/FFASS-white-w-text-01.png
END:VEVENT
END:VCALENDAR