BEGIN:VCALENDAR
VERSION:2.0
PRODID:-//Surel&#039;s Place - ECPv6.15.20//NONSGML v1.0//EN
CALSCALE:GREGORIAN
METHOD:PUBLISH
X-ORIGINAL-URL:https://surelsplace.org
X-WR-CALDESC:Events for Surel&#039;s Place
REFRESH-INTERVAL;VALUE=DURATION:PT1H
X-Robots-Tag:noindex
X-PUBLISHED-TTL:PT1H
BEGIN:VTIMEZONE
TZID:America/Boise
BEGIN:DAYLIGHT
TZOFFSETFROM:-0700
TZOFFSETTO:-0600
TZNAME:MDT
DTSTART:20240310T090000
END:DAYLIGHT
BEGIN:STANDARD
TZOFFSETFROM:-0600
TZOFFSETTO:-0700
TZNAME:MST
DTSTART:20241103T080000
END:STANDARD
BEGIN:DAYLIGHT
TZOFFSETFROM:-0700
TZOFFSETTO:-0600
TZNAME:MDT
DTSTART:20250309T090000
END:DAYLIGHT
BEGIN:STANDARD
TZOFFSETFROM:-0600
TZOFFSETTO:-0700
TZNAME:MST
DTSTART:20251102T080000
END:STANDARD
BEGIN:DAYLIGHT
TZOFFSETFROM:-0700
TZOFFSETTO:-0600
TZNAME:MDT
DTSTART:20260308T090000
END:DAYLIGHT
BEGIN:STANDARD
TZOFFSETFROM:-0600
TZOFFSETTO:-0700
TZNAME:MST
DTSTART:20261101T080000
END:STANDARD
END:VTIMEZONE
BEGIN:VEVENT
DTSTART;TZID=America/Boise:20250801T173000
DTEND;TZID=America/Boise:20250801T203000
DTSTAMP:20260421T223042
CREATED:20250630T011442Z
LAST-MODIFIED:20250909T155812Z
UID:4797-1754069400-1754080200@surelsplace.org
SUMMARY:First Friday Art and Studio Stroll
DESCRIPTION:Garden City’s Surel L. Mitchell Live-Work-Create District is bustling with artists\, artisans\, and creative\, artisanal businesses. Come to our neighborhood on the river as much as you can\, but especially during our First Friday Art & Studio Stroll. You’ll find many locations open during the event\, including artist studios\, restaurants\, and businesses featuring art events. In addition\, there will be special events at many locations\, including exhibits\, readings\, and performances. \n\n\n\nMore information about the next First Friday\, is available at The LWC District First Friday Event Page on Facebook. \n\n\n\nSee below to view an interactive Google map of the First Friday participating venues.
URL:https://surelsplace.org/event/first-friday-art-and-studio-stroll-7/
LOCATION:Surel Mitchell Live-Work-Create District\, 212 E. 33rd Street\, Garden City\, Idaho\, 83714
CATEGORIES:Open Studios
ATTACH;FMTTYPE=image/png:https://surelsplace.org/wp-content/uploads/2025/03/FF-logo-map-banner.png
END:VEVENT
END:VCALENDAR