BEGIN:VCALENDAR
VERSION:2.0
PRODID:-//Surel&#039;s Place - ECPv6.15.20//NONSGML v1.0//EN
CALSCALE:GREGORIAN
METHOD:PUBLISH
X-WR-CALNAME:Surel&#039;s Place
X-ORIGINAL-URL:https://surelsplace.org
X-WR-CALDESC:Events for Surel&#039;s Place
REFRESH-INTERVAL;VALUE=DURATION:PT1H
X-Robots-Tag:noindex
X-PUBLISHED-TTL:PT1H
BEGIN:VTIMEZONE
TZID:America/Boise
BEGIN:DAYLIGHT
TZOFFSETFROM:-0700
TZOFFSETTO:-0600
TZNAME:MDT
DTSTART:20230312T090000
END:DAYLIGHT
BEGIN:STANDARD
TZOFFSETFROM:-0600
TZOFFSETTO:-0700
TZNAME:MST
DTSTART:20231105T080000
END:STANDARD
BEGIN:DAYLIGHT
TZOFFSETFROM:-0700
TZOFFSETTO:-0600
TZNAME:MDT
DTSTART:20240310T090000
END:DAYLIGHT
BEGIN:STANDARD
TZOFFSETFROM:-0600
TZOFFSETTO:-0700
TZNAME:MST
DTSTART:20241103T080000
END:STANDARD
BEGIN:DAYLIGHT
TZOFFSETFROM:-0700
TZOFFSETTO:-0600
TZNAME:MDT
DTSTART:20250309T090000
END:DAYLIGHT
BEGIN:STANDARD
TZOFFSETFROM:-0600
TZOFFSETTO:-0700
TZNAME:MST
DTSTART:20251102T080000
END:STANDARD
END:VTIMEZONE
BEGIN:VEVENT
DTSTART;TZID=America/Boise:20240315T160000
DTEND;TZID=America/Boise:20240315T190000
DTSTAMP:20260422T225801
CREATED:20240307T003500Z
LAST-MODIFIED:20240307T004129Z
UID:2950-1710518400-1710529200@surelsplace.org
SUMMARY:Open Studio: Karolina Majewska Freeing
DESCRIPTION:Visit polish sculptor Karolina Majewska Freeing as she creates new work for her exhibition “womanhood\,” which will open in April. \n\n\n\nHow does the nation you are in determine your gender role? What specific notions of masculinity and femininity within the construct of nationhood determine this? Perhaps an artist from outside the United States is best able to help our community explore these questions. Polish artist Karolina Majewska’s sculptural work explores objectification and repression around the politics of the body. “The process of casting my body has given me the perspective to self-observe and accept the mortality of my physical form\,” she says. During her residency at Surel’s Place\, she will create intimate\, imperfect self-portraits using casting techniques to build installations that are also metaphors for the body of a woman. \n\n\n\nYou may also work with Karolina in an Introduction to Casting: Creating Reusable Plaster Molds and Single-Use Alginate on March 30th. Register at http://surelsplace.ludus.com \n\n\n\nBIOGRAPHY: Karolina Majewska Freeing is a visual artist based in Warsaw\, Poland. She holds an MFA in Photography\, Video\, and Related Media from the School of Visual Arts in New York (2017) and an MFA in Painting from the Warsaw Academy of Fine Arts (2014). Karolina’s recent work explores the fragility and organic qualities of the human body. Her installations feature natural materials such as wax\, wood\, and clay. Karolina’s work has been exhibited in Poland\, Germany\, Italy\, Lithuania\, Austria\, Cyprus\, Switzerland and the United States. She has participated in conferences and talks related to her practice during Manifesta 12; Rixc\, Art and Science Festival\, Open Field Conference\, and more.
URL:https://surelsplace.org/event/open-studio-karolina-majewska-freeing/
LOCATION:Surel’s Place\, 212 E. 33rd Street\, Garden City\, 83714\, United States
CATEGORIES:Open Studios
ATTACH;FMTTYPE=image/jpeg:https://surelsplace.org/wp-content/uploads/2024/03/24-03-freeing-Eventbrite.jpg
END:VEVENT
END:VCALENDAR