BEGIN:VCALENDAR
VERSION:2.0
PRODID:-//Surel&#039;s Place - ECPv6.15.20//NONSGML v1.0//EN
CALSCALE:GREGORIAN
METHOD:PUBLISH
X-ORIGINAL-URL:https://surelsplace.org
X-WR-CALDESC:Events for Surel&#039;s Place
REFRESH-INTERVAL;VALUE=DURATION:PT1H
X-Robots-Tag:noindex
X-PUBLISHED-TTL:PT1H
BEGIN:VTIMEZONE
TZID:America/Boise
BEGIN:DAYLIGHT
TZOFFSETFROM:-0700
TZOFFSETTO:-0600
TZNAME:MDT
DTSTART:20230312T090000
END:DAYLIGHT
BEGIN:STANDARD
TZOFFSETFROM:-0600
TZOFFSETTO:-0700
TZNAME:MST
DTSTART:20231105T080000
END:STANDARD
BEGIN:DAYLIGHT
TZOFFSETFROM:-0700
TZOFFSETTO:-0600
TZNAME:MDT
DTSTART:20240310T090000
END:DAYLIGHT
BEGIN:STANDARD
TZOFFSETFROM:-0600
TZOFFSETTO:-0700
TZNAME:MST
DTSTART:20241103T080000
END:STANDARD
BEGIN:DAYLIGHT
TZOFFSETFROM:-0700
TZOFFSETTO:-0600
TZNAME:MDT
DTSTART:20250309T090000
END:DAYLIGHT
BEGIN:STANDARD
TZOFFSETFROM:-0600
TZOFFSETTO:-0700
TZNAME:MST
DTSTART:20251102T080000
END:STANDARD
END:VTIMEZONE
BEGIN:VEVENT
DTSTART;TZID=America/Boise:20241013T100000
DTEND;TZID=America/Boise:20241013T180000
DTSTAMP:20260422T130604
CREATED:20240926T231232Z
LAST-MODIFIED:20240926T231344Z
UID:3859-1728813600-1728842400@surelsplace.org
SUMMARY:Laurie Shapiro: Meditated Landscape
DESCRIPTION:Open Studio \n\n\n\nLaurie Shapiro creates all-encompassing\, visually stimulating installations using a layering technique that combines painting\, screenprinting\, sewing\, and sculpture. The environments created transport viewers into psychedelic womb-like environments: handcrafted\, vibrant\, and filled with patterns and colors that invite interaction and meditation. While at Surel’s Place\, Laurie created various pieces using mixed media textiles and painting techniques. As a hard-of-hearing artist\, she used her own mediation techniques to engage with the landscape of Idaho\, creating new pieces that reflects her experiences and observations. Laurie is eager to engage with the community and share her work reflecting the natural beauty and diversity of Idaho. Laurie will also have prints and other work available for purchase. \n\n\n\nFree 
URL:https://surelsplace.org/event/laurie-shapiro-meditated-landscape-2/
LOCATION:Surel’s Place\, 212 E. 33rd Street\, Garden City\, 83714\, United States
CATEGORIES:Exhibition,Open Studios
ATTACH;FMTTYPE=image/jpeg:https://surelsplace.org/wp-content/uploads/2024/09/laurie_shapiro_artist.jpg
END:VEVENT
END:VCALENDAR