BEGIN:VCALENDAR
VERSION:2.0
PRODID:-//Surel&#039;s Place - ECPv6.15.20//NONSGML v1.0//EN
CALSCALE:GREGORIAN
METHOD:PUBLISH
X-ORIGINAL-URL:https://surelsplace.org
X-WR-CALDESC:Events for Surel&#039;s Place
REFRESH-INTERVAL;VALUE=DURATION:PT1H
X-Robots-Tag:noindex
X-PUBLISHED-TTL:PT1H
BEGIN:VTIMEZONE
TZID:America/Boise
BEGIN:DAYLIGHT
TZOFFSETFROM:-0700
TZOFFSETTO:-0600
TZNAME:MDT
DTSTART:20240310T090000
END:DAYLIGHT
BEGIN:STANDARD
TZOFFSETFROM:-0600
TZOFFSETTO:-0700
TZNAME:MST
DTSTART:20241103T080000
END:STANDARD
BEGIN:DAYLIGHT
TZOFFSETFROM:-0700
TZOFFSETTO:-0600
TZNAME:MDT
DTSTART:20250309T090000
END:DAYLIGHT
BEGIN:STANDARD
TZOFFSETFROM:-0600
TZOFFSETTO:-0700
TZNAME:MST
DTSTART:20251102T080000
END:STANDARD
BEGIN:DAYLIGHT
TZOFFSETFROM:-0700
TZOFFSETTO:-0600
TZNAME:MDT
DTSTART:20260308T090000
END:DAYLIGHT
BEGIN:STANDARD
TZOFFSETFROM:-0600
TZOFFSETTO:-0700
TZNAME:MST
DTSTART:20261101T080000
END:STANDARD
END:VTIMEZONE
BEGIN:VEVENT
DTSTART;TZID=America/Boise:20250918T093000
DTEND;TZID=America/Boise:20250918T173000
DTSTAMP:20260421T223429
CREATED:20250909T162709Z
LAST-MODIFIED:20250916T163118Z
UID:5110-1758187800-1758216600@surelsplace.org
SUMMARY:Open Studio: Maja's Comic-Making Journey
DESCRIPTION:OPEN STUDIOMAJA’S COMIC-MAKING JOURNEYThursday\, September 18th | 9:30am – 5:30pm \n\n\n\nfree \n\n\n\nat Lake Hazel Library
URL:https://surelsplace.org/event/open-studio-majas-comic-making-journey/
LOCATION:Lake Hazel Library\, 10489 W Lake Hazel Rd\, Boise\, Idaho\, 83709\, United States
CATEGORIES:Open Studios
ATTACH;FMTTYPE=image/jpeg:https://surelsplace.org/wp-content/uploads/2025/09/Graphic-Memoir-Chapter-1-Page-03.jpg
END:VEVENT
END:VCALENDAR