BEGIN:VCALENDAR
VERSION:2.0
PRODID:-//Surel&#039;s Place - ECPv6.15.20//NONSGML v1.0//EN
CALSCALE:GREGORIAN
METHOD:PUBLISH
X-ORIGINAL-URL:https://surelsplace.org
X-WR-CALDESC:Events for Surel&#039;s Place
REFRESH-INTERVAL;VALUE=DURATION:PT1H
X-Robots-Tag:noindex
X-PUBLISHED-TTL:PT1H
BEGIN:VTIMEZONE
TZID:America/Boise
BEGIN:DAYLIGHT
TZOFFSETFROM:-0700
TZOFFSETTO:-0600
TZNAME:MDT
DTSTART:20240310T090000
END:DAYLIGHT
BEGIN:STANDARD
TZOFFSETFROM:-0600
TZOFFSETTO:-0700
TZNAME:MST
DTSTART:20241103T080000
END:STANDARD
BEGIN:DAYLIGHT
TZOFFSETFROM:-0700
TZOFFSETTO:-0600
TZNAME:MDT
DTSTART:20250309T090000
END:DAYLIGHT
BEGIN:STANDARD
TZOFFSETFROM:-0600
TZOFFSETTO:-0700
TZNAME:MST
DTSTART:20251102T080000
END:STANDARD
BEGIN:DAYLIGHT
TZOFFSETFROM:-0700
TZOFFSETTO:-0600
TZNAME:MDT
DTSTART:20260308T090000
END:DAYLIGHT
BEGIN:STANDARD
TZOFFSETFROM:-0600
TZOFFSETTO:-0700
TZNAME:MST
DTSTART:20261101T080000
END:STANDARD
END:VTIMEZONE
BEGIN:VEVENT
DTSTART;TZID=America/Boise:20250924T170000
DTEND;TZID=America/Boise:20250924T200000
DTSTAMP:20260421T223432
CREATED:20250829T221600Z
LAST-MODIFIED:20250916T163410Z
UID:5078-1758733200-1758744000@surelsplace.org
SUMMARY:Open Zine Studio with Maja Miłkowska-Shibata
DESCRIPTION:OPEN STUDIOOpen Zine Studio with Maja Miłkowska-ShibataWednesday\, September 24th | 5:00pm – 8:00pm \n\n\n\nfree \n\n\n\nat the Garden City Public Library \n\n\n\nJoin us for a hands-on evening exploring the art of zines! Maja Miłkowska-Shibata\, Artist-in-Residence at Surel’s Place\, will guide the participants in creating their own mini comic zines. Discover how this DIY medium can be used for self-expression\, storytelling\, and community connection. All supplies provided. Parental supervision is required for younger makers.
URL:https://surelsplace.org/event/open-zine-studio-with-maja-milkowska-shibata/
LOCATION:Garden City Public Library\, 6015 N Glenwood St\, Garden City\, Idaho\, 83714\, United States
CATEGORIES:Open Studios,Workshop
ATTACH;FMTTYPE=image/jpeg:https://surelsplace.org/wp-content/uploads/2025/05/Copy-of-Spread-5-Maja-Milkowska-Shibata.jpg
END:VEVENT
END:VCALENDAR