BEGIN:VCALENDAR
VERSION:2.0
PRODID:-//Surel&#039;s Place - ECPv6.15.20//NONSGML v1.0//EN
CALSCALE:GREGORIAN
METHOD:PUBLISH
X-ORIGINAL-URL:https://surelsplace.org
X-WR-CALDESC:Events for Surel&#039;s Place
REFRESH-INTERVAL;VALUE=DURATION:PT1H
X-Robots-Tag:noindex
X-PUBLISHED-TTL:PT1H
BEGIN:VTIMEZONE
TZID:America/Boise
BEGIN:DAYLIGHT
TZOFFSETFROM:-0700
TZOFFSETTO:-0600
TZNAME:MDT
DTSTART:20240310T090000
END:DAYLIGHT
BEGIN:STANDARD
TZOFFSETFROM:-0600
TZOFFSETTO:-0700
TZNAME:MST
DTSTART:20241103T080000
END:STANDARD
BEGIN:DAYLIGHT
TZOFFSETFROM:-0700
TZOFFSETTO:-0600
TZNAME:MDT
DTSTART:20250309T090000
END:DAYLIGHT
BEGIN:STANDARD
TZOFFSETFROM:-0600
TZOFFSETTO:-0700
TZNAME:MST
DTSTART:20251102T080000
END:STANDARD
BEGIN:DAYLIGHT
TZOFFSETFROM:-0700
TZOFFSETTO:-0600
TZNAME:MDT
DTSTART:20260308T090000
END:DAYLIGHT
BEGIN:STANDARD
TZOFFSETFROM:-0600
TZOFFSETTO:-0700
TZNAME:MST
DTSTART:20261101T080000
END:STANDARD
BEGIN:DAYLIGHT
TZOFFSETFROM:-0700
TZOFFSETTO:-0600
TZNAME:MDT
DTSTART:20270314T090000
END:DAYLIGHT
BEGIN:STANDARD
TZOFFSETFROM:-0600
TZOFFSETTO:-0700
TZNAME:MST
DTSTART:20271107T080000
END:STANDARD
END:VTIMEZONE
BEGIN:VEVENT
DTSTART;TZID=America/Boise:20251011T100000
DTEND;TZID=America/Boise:20251011T180000
DTSTAMP:20260422T230250
CREATED:20250912T202718Z
LAST-MODIFIED:20250916T180557Z
UID:5120-1760176800-1760205600@surelsplace.org
SUMMARY:BOSCO: Boise Open Studios Tour
DESCRIPTION:BOISE OPEN STUDIOS TOURYIDAN GUOSaturday & Sunday\, October 11th & 12th10:00am – 6:00pm \n\n\n\nfree \n\n\n\nat Surel’s Place: 212 E. 33rd Street in Garden City \n\n\n\nBoise Open Studios Collective Organization  (BOSCO) features over 125 Treasure Valley artists working in painting\, sculpture\, photography\, ceramics\, printmaking\, jewelry\, textiles\, mosaic\, collage\, assemblage\, digital images\, and glass. BOSCO’s main event\, the Open Studios Tour\, occurs during the first two weekends of October each year\, with half of the artists opening their studios on the first weekend and the rest on the second. This event aims to enhance public understanding of the artistic process\, foster connections\, and build community. \n\n\n\nJoin us at Surel’s Place to see the work of our Artist-in-Residence Yidan Guo. Yidan’s journey as a painter has spanned thousands of miles\, from her birthplace in China to her present home in the US. This migratory experience has deeply influenced her choice of subject matter: women who are immigrants and refugees. As an Asian immigrant and a woman artist\, there’s a shared bond\, a collective experience of navigating new cultures\, which forms the core of her creative exploration. \n\n\n\nAt the age of 15\, Yidan began eight years of rigorous training at China Central Academy of Fine Arts – the most prestigious art school in China and earned her Bachelor of Art degree in Chinese Painting. In 2005 she earned a master’s degree in Philosophy from Renmin University of China and a MFA from Idaho State University in 2024. \n\n\n\n\nBOSCO OPEN STUDIOS TOUR
URL:https://surelsplace.org/event/bosco-boise-open-studios-tour/
LOCATION:Surel’s Place\, 212 E. 33rd Street\, Garden City\, 83714\, United States
CATEGORIES:Open Studios
ATTACH;FMTTYPE=image/png:https://surelsplace.org/wp-content/uploads/2025/09/Screenshot-2025-09-16-at-11.59.37-AM.png
END:VEVENT
BEGIN:VEVENT
DTSTART;TZID=America/Boise:20251012T100000
DTEND;TZID=America/Boise:20251012T180000
DTSTAMP:20260422T230250
CREATED:20250912T202900Z
LAST-MODIFIED:20250916T180517Z
UID:5127-1760263200-1760292000@surelsplace.org
SUMMARY:BOSCO: Boise Open Studio Tour
DESCRIPTION:BOISE OPEN STUDIOS TOURYIDAN GUOSaturday & Sunday\, October 11th & 12th10:00am – 6:00pm \n\n\n\nfree \n\n\n\nat Surel’s Place: 212 E. 33rd Street in Garden City \n\n\n\nBoise Open Studios Collective Organization features over 125 Treasure Valley artists working in painting\, sculpture\, photography\, ceramics\, printmaking\, jewelry\, textiles\, mosaic\, collage\, assemblage\, digital images\, and glass. Our main event\, the Open Studios Tour\, occurs during the first two weekends of October each year\, with half of the artists opening their studios on the first weekend and the rest on the second. This event aims to enhance public understanding of the artistic process\, foster connections\, and build community. \n\n\n\nJoin us at Surel’s Place to see the work of our Artist-in-Residence Yidan Guo. Yidan’s journey as a painter has spanned thousands of miles\, from her birthplace in China to her present home in the US.This migratory experience has deeply influenced her choice of subject matter: women who are immigrants and refugees. As an Asian immigrant and a woman artist\, there’s a shared bond\, a collective experience of navigating new cultures\, which forms the core of her creative exploration. \n\n\n\nAt the age of 15\, Yidan began eight years of rigorous training at China Central Academy of Fine Arts – the most prestigious art school in China and earned her Bachelor of Art degree in Chinese Painting. In 2005 she earned a master’s degree in Philosophy from Renmin University of China and a MFA from Idaho State University in 2024. \n\n\n\n\nBOSCO OPEN STUDIOS TOUR
URL:https://surelsplace.org/event/boise-open-studio-tour/
LOCATION:Surel’s Place\, 212 E. 33rd Street\, Garden City\, 83714\, United States
CATEGORIES:Open Studios
ATTACH;FMTTYPE=image/png:https://surelsplace.org/wp-content/uploads/2025/09/Screenshot-2025-09-16-at-11.59.37-AM.png
END:VEVENT
BEGIN:VEVENT
DTSTART;TZID=America/Boise:20251205T173000
DTEND;TZID=America/Boise:20251205T203000
DTSTAMP:20260422T230250
CREATED:20251103T212746Z
LAST-MODIFIED:20251202T165531Z
UID:5318-1764955800-1764966600@surelsplace.org
SUMMARY:First Friday Art & Studio Stroll
DESCRIPTION:Garden City’s Surel L. Mitchell Live-Work-Create District is bustling with artists\, artisans\, and creative\, artisanal businesses. Come to our neighborhood on the river as much as you can\, but especially during our First Friday Art & Studio Stroll. You’ll find many locations open during the event\, including artist studios\, restaurants\, and businesses featuring art events. In addition\, there will be special events at many locations\, including exhibits\, readings\, and performances. \n\n\n\nMore information about the next First Friday\, is available at The LWC District First Friday Event Page on Facebook. \n\n\n\nSee below to view an interactive Google map of the First Friday participating venues. \n\n\n\n\n\n\n\nPARTICIPATING VENUES AND ARTISTS \n\n\n\nSurel’s Place \n\n\n\n212 E. 33rd Street \n\n\n\nIn the gallery\, work by Marshall Toomey.  Surel’s Place will also be visited by the Krampus Krawl around 7:15pm. \n\n\n\n*** \n\n\n\nThe Holdover House \n\n\n\n3338 N Carr Street \n\n\n\nThe Surly Mermaid \n\n\n\n*** \n\n\n\nArcadia Hotel \n\n\n\n3433 W Chinden Blvd \n\n\n\nARTcadia- artist installations in hotel rooms! \n\n\n\nRoom 1: Andrew Groth & Gia Strang \n\n\n\nRoom 3: Ace Zappa \n\n\n\nRoom 16: Brie Schettle \n\n\n\nRoom 17: Sam Archide \n\n\n\nRoom 18: Becka Schrinsky \n\n\n\nRoom 29: Susan Lasater\, Veiko Valencia\, and Rebecca Evans \n\n\n\nBy Bike Locks: Megan White \n\n\n\n*** \n\n\n\nVisual Arts Collective (VAC)(21+) \n\n\n\n3638 Osage Street \n\n\n\n“Listening to the Last Light or Golfing on the Moon” \n\n\n\nNeon Master\, Wil Kirkman retrospective \n\n\n\n*** \n\n\n\nOldspeak \n\n\n\n3640 W Chinden Blvd \n\n\n\nsolo show by scientific illustrator Jay Rasgorshek \n\n\n\n*** \n\n\n\nMadacsi Studios \n\n\n\n*Brittney Gehrig\, Verre Boise Stained Glass \n\n\n\n*Susan Madacsi\, Madacsi Studios\, will have a fused glass activity \n\n\n\n*Mandy Riley ClayWorks \n\n\n\n*** \n\n\n\nWater’s Edge Gallery at The Riverside Hotel \n\n\n\n2900 W Chinden Blvd \n\n\n\nMain Level \n\n\n\nReception for our Featured Artists Retrospective. Appetizers available and a Scavenger Hunt throughout the gallery. \n\n\n\n2nd level \n\n\n\nRena Vandewater as our Artist of the Month \n\n\n\nCatwalk \n\n\n\nthe reception for the artists in our Catwalk Series\, Treasures of Time \n\n\n\n*** \n\n\n\nThe Common Well \n\n\n\n110 W 31st Street \n\n\n\nGallery- Matthew Thorley\, Anatomy of Fatigue \n\n\n\n2nd floor popup- Susan Madacsi\, The Incineration Project Opening! \n\n\n\nMany of the artists who work at The Common Well will be in their studios so you can meet them and see what they’re working on. Studio artists and writers include Brecken Bird\, Kristen Edwards\, Lori Fish\, Rolland Fletcher\, Teal Gardner\, Elizabeth Hilton\, Mary Kancewick\, Matthew Kennedy\, Amber Lawless\, Aurora Stone Mehlman\, Caitria Mir\, Clare Remsberg and Katherine Shaughnessy. \n\n\n\n*** \n\n\n\nBlack Moon New Venue! \n\n\n\n3709 W Chinden Blvd \n\n\n\nArtist Shelley Jund \n\n\n\n*** \n\n\n\nCreate Gallery & Frames \n\n\n\n3520 W Chinden Blvd \n\n\n\n4pm Demo with Richard Serros \n\n\n\n5pm Demo with Thomas Van Stein \n\n\n\n5pm Talk with Katinka \n\n\n\n6:30pm Interview with Randy Rasmussen
URL:https://surelsplace.org/event/first-friday-art-studio-stroll-7/
LOCATION:Surel Mitchell Live-Work-Create District\, 212 E. 33rd Street\, Garden City\, Idaho\, 83714
CATEGORIES:Open Studios
ATTACH;FMTTYPE=image/png:https://surelsplace.org/wp-content/uploads/2025/03/FF-logo-map-banner.png
END:VEVENT
BEGIN:VEVENT
DTSTART;TZID=America/Boise:20260403T173000
DTEND;TZID=America/Boise:20260403T203000
DTSTAMP:20260422T230250
CREATED:20260319T203110Z
LAST-MODIFIED:20260419T231806Z
UID:5765-1775237400-1775248200@surelsplace.org
SUMMARY:First Friday Art & Studio Stroll
DESCRIPTION:Garden City’s Surel L. Mitchell Live-Work-Create District is lively with artists\, art studios\, and businesses year-round\, but especially during free First Friday events. It’s a great way to explore the local art scene\, with exhibitions\, readings\, and performances at various locations. \n\n\n\nOn April 3rd\, The Backyard Artists will be hosting a community collage night at Surel’s Place. \n\n\n\nYou can tour the event with our program director\, Jodi Eichelberger\, by bike on a special First Friday artBike tour. Register at https://surelsplace.ludus.com \n\n\n\nMore information about the next First Friday\, is available at The LWC District First Friday Event Page on Facebook. \n\n\n\nSee below to view an interactive Google map of the First Friday participating venues. \n\n\n\n\n\n\n\nSPONSORED BY:
URL:https://surelsplace.org/event/first-friday-art-studio-stroll-8/
LOCATION:Surel Mitchell Live-Work-Create District\, 212 E. 33rd Street\, Garden City\, Idaho\, 83714
CATEGORIES:Community Participation,Open Studios
ATTACH;FMTTYPE=image/png:https://surelsplace.org/wp-content/uploads/2026/03/shadow-1.png
END:VEVENT
BEGIN:VEVENT
DTSTART;TZID=America/Boise:20260605T173000
DTEND;TZID=America/Boise:20260605T203000
DTSTAMP:20260422T230250
CREATED:20260419T231724Z
LAST-MODIFIED:20260420T224752Z
UID:5926-1780680600-1780691400@surelsplace.org
SUMMARY:First Friday Art & Studio Stroll
DESCRIPTION:LIVE-WORK-CREATE DISTRICTFIRST FRIDAY ART & STUDIO STROLLFriday\, June 5th | 5:30pm – 8:30pm \n\n\n\nfree \n\n\n\nGarden City’s Surel L. Mitchell Live-Work-Create District is lively with artists\, art studios\, and businesses year-round\, but especially during free First Friday events. It’s a great way to explore the local art scene\, with exhibitions\, readings\, and performances at various locations. \n\n\n\nMore information about the next First Friday\, is available at The LWC District First Friday Event Page on Facebook. \n\n\n\nSee below to view an interactive Google map of the First Friday participating venues. \n\n\n\n\n\n\n\nSPONSORED BY:
URL:https://surelsplace.org/event/first-friday-art-studio-stroll-9/
LOCATION:Surel Mitchell Live-Work-Create District\, 212 E. 33rd Street\, Garden City\, Idaho\, 83714
CATEGORIES:Open Studios
ATTACH;FMTTYPE=image/png:https://surelsplace.org/wp-content/uploads/2024/02/FFASS-white-w-text-01.png
END:VEVENT
END:VCALENDAR