BEGIN:VCALENDAR
VERSION:2.0
PRODID:-//Surel&#039;s Place - ECPv6.15.20//NONSGML v1.0//EN
CALSCALE:GREGORIAN
METHOD:PUBLISH
X-WR-CALNAME:Surel&#039;s Place
X-ORIGINAL-URL:https://surelsplace.org
X-WR-CALDESC:Events for Surel&#039;s Place
REFRESH-INTERVAL;VALUE=DURATION:PT1H
X-Robots-Tag:noindex
X-PUBLISHED-TTL:PT1H
BEGIN:VTIMEZONE
TZID:America/Boise
BEGIN:DAYLIGHT
TZOFFSETFROM:-0700
TZOFFSETTO:-0600
TZNAME:MDT
DTSTART:20220313T090000
END:DAYLIGHT
BEGIN:STANDARD
TZOFFSETFROM:-0600
TZOFFSETTO:-0700
TZNAME:MST
DTSTART:20221106T080000
END:STANDARD
BEGIN:DAYLIGHT
TZOFFSETFROM:-0700
TZOFFSETTO:-0600
TZNAME:MDT
DTSTART:20230312T090000
END:DAYLIGHT
BEGIN:STANDARD
TZOFFSETFROM:-0600
TZOFFSETTO:-0700
TZNAME:MST
DTSTART:20231105T080000
END:STANDARD
BEGIN:DAYLIGHT
TZOFFSETFROM:-0700
TZOFFSETTO:-0600
TZNAME:MDT
DTSTART:20240310T090000
END:DAYLIGHT
BEGIN:STANDARD
TZOFFSETFROM:-0600
TZOFFSETTO:-0700
TZNAME:MST
DTSTART:20241103T080000
END:STANDARD
END:VTIMEZONE
BEGIN:VEVENT
DTSTART;TZID=America/Boise:20230615T190000
DTEND;TZID=America/Boise:20230615T203000
DTSTAMP:20260425T163845
CREATED:20230520T221049Z
LAST-MODIFIED:20230520T221053Z
UID:2061-1686855600-1686861000@surelsplace.org
SUMMARY:Sound Topography: A Live Performance by The Wind and All Around Cowboy
DESCRIPTION:The Wind is a podcast by Fil Corbitt (they/them)\, made at a handmade desk in the Sierra Nevada. This performance will mix script reading\, interview clips and immersive soundscapes to create a full audio experience. Fil has performed The Wind at Treefort the last three years\, and their work has appeared on NPR\, CBC\, Outside Magazine\, 99% Invisible\, Snap Judgement and The National Cowboy Poetry Gathering\, among many others. \n\n\n\nYou can only hear the wind in relation to what it’s scraping up against. Fil’s podcast The Wind works that way too: though it’s usually made from a quiet desk in the woods in a mountain wilderness\, the show often touches on topics more loud and confronting. From the politics of sound (Whip Law: an exploration of Reno’s houseless whip culture\, aired nationally)\, to queer spaces (They/Them)\, radical Brazilian punk\, train yards\, and rodeo chutes\, Fil’s work aims to observe and meditate on the way sound shapes our lives both overtly and ethereally. You can learn more at TheWind.org. \n\n\n\nThe evening will also feature local Boise artist\, All Around Cowboy. In live shows blending folk music and performance poetry with kabbalistic mysticism\, his work explores alternative Americanas. Both his music and his poetry are structured around loops: layered chords and ambiences as well as repeating names and images. His other projects include the podcast Sage Country Fragments\, the found sound project The Living Room Orchestra\, and the stage plays Has This Ever Happened To You? and Administrative Leave. \n\n\n\nFree!
URL:https://surelsplace.org/event/sound-topography-a-live-performance-by-the-wind-and-all-around-cowboy/
LOCATION:Surel’s Place\, 212 E. 33rd Street\, Garden City\, 83714\, United States
CATEGORIES:Performance,Special Event
ATTACH;FMTTYPE=image/jpeg:https://surelsplace.org/wp-content/uploads/2023/05/wind.jpeg
END:VEVENT
BEGIN:VEVENT
DTSTART;TZID=America/Boise:20230620T200000
DTEND;TZID=America/Boise:20230620T213000
DTSTAMP:20260425T163845
CREATED:20230424T153521Z
LAST-MODIFIED:20230504T171352Z
UID:2023-1687291200-1687296600@surelsplace.org
SUMMARY:An Evening With Eilen Jewell: Surel's Place Summer Fundraising Garden Party
DESCRIPTION:Surel’s Place is honored to host the woman American Songwriter has called “one of America’s most intriguing\, creative\, and idiosyncratic voices” at our summer fundraiser — featuring both an intimate concert and an even more limited number of seats at an exclusive family-style meal in Surel’s own dining room.  \n\n\n\nIdaho native Eilen Jewell has shared bills with the likes of Lucinda Williams\, Loretta Lynn\, Mavis Staples\, Wanda Jackson\, George Jones\, Emmylou Harris\, and The Blind Boys of Alabama. Rolling Stone lauded her “clever writing\,” while NPR declared that she has a “sweet and clear voice with a killer instinct lurking beneath the shiny surface.” The Washington Post mused that “if Neko Case\, Madeleine Peyroux and Billie Holiday had a baby girl who grew up to front a rockabilly band\, she’d probably sound a lot like Eilen Jewell.” You can learn more about Eilen and her music on her website\, eilenjewell.com. \n\n\n\nEilen is donating her time and talents to raise money for the arts and artists through Surel’s Place\, and we are grateful that we get to extend this unique chance to hear her deeply personal work in a rare solo performance.  \n\n\n\nWe are equally grateful for our presenting sponsors at Holland & Hart for the support that is making this evening possible.  \n\n\n\nIn addition to the general admission tickets available below\, a limited number of seats are available for an intimate family-style dinner of authentic Puerto Rican cuisine catered by our Garden City neighbors at Wepa Cafe. You can purchase seats for dinner and the show here.
URL:https://surelsplace.org/event/an-evening-with-eilen-jewell-surels-place-summer-fundraising-garden-party/
LOCATION:Surel’s Place\, 212 E. 33rd Street\, Garden City\, 83714\, United States
CATEGORIES:Performance,Special Event
ATTACH;FMTTYPE=image/jpeg:https://surelsplace.org/wp-content/uploads/2023/04/Untitled-scaled.jpg
END:VEVENT
END:VCALENDAR