BEGIN:VCALENDAR
VERSION:2.0
PRODID:-//Surel&#039;s Place - ECPv6.15.20//NONSGML v1.0//EN
CALSCALE:GREGORIAN
METHOD:PUBLISH
X-ORIGINAL-URL:https://surelsplace.org
X-WR-CALDESC:Events for Surel&#039;s Place
REFRESH-INTERVAL;VALUE=DURATION:PT1H
X-Robots-Tag:noindex
X-PUBLISHED-TTL:PT1H
BEGIN:VTIMEZONE
TZID:America/Boise
BEGIN:DAYLIGHT
TZOFFSETFROM:-0700
TZOFFSETTO:-0600
TZNAME:MDT
DTSTART:20220313T090000
END:DAYLIGHT
BEGIN:STANDARD
TZOFFSETFROM:-0600
TZOFFSETTO:-0700
TZNAME:MST
DTSTART:20221106T080000
END:STANDARD
BEGIN:DAYLIGHT
TZOFFSETFROM:-0700
TZOFFSETTO:-0600
TZNAME:MDT
DTSTART:20230312T090000
END:DAYLIGHT
BEGIN:STANDARD
TZOFFSETFROM:-0600
TZOFFSETTO:-0700
TZNAME:MST
DTSTART:20231105T080000
END:STANDARD
BEGIN:DAYLIGHT
TZOFFSETFROM:-0700
TZOFFSETTO:-0600
TZNAME:MDT
DTSTART:20240310T090000
END:DAYLIGHT
BEGIN:STANDARD
TZOFFSETFROM:-0600
TZOFFSETTO:-0700
TZNAME:MST
DTSTART:20241103T080000
END:STANDARD
END:VTIMEZONE
BEGIN:VEVENT
DTSTART;TZID=America/Boise:20231011T190000
DTEND;TZID=America/Boise:20231011T210000
DTSTAMP:20260425T103346
CREATED:20230913T212657Z
LAST-MODIFIED:20230913T212659Z
UID:2342-1697050800-1697058000@surelsplace.org
SUMMARY:McKenna Esteb: Show & Tell
DESCRIPTION:What is emotional freedom? McKenna Esteb sees it as the ability to identify difficult emotions and learn from them – liberating yourself from negative feelings rather than attaching to them. Rather than predict the genre of music she will create during her residency at Surel’s Place\, McKenna is challenging herself to write a set of songs by letting the music flow nautually and see what inspires her. She will share this new music with voice and piano during this performance followed by a Q & A.At the age of 21\, McKenna Esteb was diagnosed with Borderline Personality Disorder (BPD). “I recognized recurring patterns in my life that I felt I had no control over. I disliked myself deeply. This affected my self worth\, relationships\, and my ability to create.” Once diagnosed\, she started to connect to her music on a much deeper level and started to create more freely and frequently. This evening of new music is a continuation of that journey and the discovery of where emotional freedom and creative freedom intersect. \n\n\nMcKenna EstebSeptember-October\n\n\n\n\nWhile not unheard of to have a local artist in residence at Surel's Place\, it doesn't happen very often. McKenna Esteb grew up in Snoqualmie Wash. — where her love for music began — performing in talent shows\, at coffee shops and restaurants around the greater Seattle area. Throughout her career\, she has called both Austin\, Texas\, and Boise\, ID home. Since releasing her first single in 2019\, her career has taken many different forms. Pivoting from 2-3 hour cover shows at coffee shops\, she began performing her own musical project at Treefort\, Flipside\, Boise Pride\, and opening for touring bands like The Suffers. Her vocal style is heavily influenced by the likes of Norah Jones\, Etta James\, and Amy Winehouse. The roots of her music have soul and funk influences mixed into a nice cocktail of pop/modern rock. Her music is vulnerable\, direct\, and influenced by her life experiences. In most recent projects\, she wrote about Row v. Wade being overturned and donated all profits received from streams to Northwest Abortion Access Fund. With songs ranging from power ballads to rocking out\, she is guaranteed to keep her music relatable and raw. \n\n\n\nOur selection panelists universally recommended Esteb for the residency\, even over out-of-town applicants. Eric Alexander\, one of these panelists\, wrote that\, "I feel McKenna is poised to do great things\, I hope a residency would allow her to move to the next phase of her creativity." And that's what she hopes to do. \n\n\n\nDuring her residency\, Esteb led a workshop on journaling. She shared her experience with journaling: personal tips\, how to workshop creative ideas\, and how to release tension in the body through journaling. For her culminating event\, Esteb performed the songs created during her residency and told the stories behind each one. \n\n\n\nWatch an interview Esteb gave during her residency with Idaho News 6.
URL:https://surelsplace.org/event/mckenna-esteb-show-tell/
LOCATION:Audio Lab\, 3640 Osage Street\, Garden City\, Idaho\, 83714
CATEGORIES:Performance
END:VEVENT
END:VCALENDAR