BEGIN:VCALENDAR
VERSION:2.0
PRODID:-//Surel&#039;s Place - ECPv6.15.20//NONSGML v1.0//EN
CALSCALE:GREGORIAN
METHOD:PUBLISH
X-WR-CALNAME:Surel&#039;s Place
X-ORIGINAL-URL:https://surelsplace.org
X-WR-CALDESC:Events for Surel&#039;s Place
REFRESH-INTERVAL;VALUE=DURATION:PT1H
X-Robots-Tag:noindex
X-PUBLISHED-TTL:PT1H
BEGIN:VTIMEZONE
TZID:America/Boise
BEGIN:DAYLIGHT
TZOFFSETFROM:-0700
TZOFFSETTO:-0600
TZNAME:MDT
DTSTART:20230312T090000
END:DAYLIGHT
BEGIN:STANDARD
TZOFFSETFROM:-0600
TZOFFSETTO:-0700
TZNAME:MST
DTSTART:20231105T080000
END:STANDARD
BEGIN:DAYLIGHT
TZOFFSETFROM:-0700
TZOFFSETTO:-0600
TZNAME:MDT
DTSTART:20240310T090000
END:DAYLIGHT
BEGIN:STANDARD
TZOFFSETFROM:-0600
TZOFFSETTO:-0700
TZNAME:MST
DTSTART:20241103T080000
END:STANDARD
BEGIN:DAYLIGHT
TZOFFSETFROM:-0700
TZOFFSETTO:-0600
TZNAME:MDT
DTSTART:20250309T090000
END:DAYLIGHT
BEGIN:STANDARD
TZOFFSETFROM:-0600
TZOFFSETTO:-0700
TZNAME:MST
DTSTART:20251102T080000
END:STANDARD
END:VTIMEZONE
BEGIN:VEVENT
DTSTART;TZID=America/Boise:20240808T190000
DTEND;TZID=America/Boise:20240808T203000
DTSTAMP:20260424T193654
CREATED:20240717T001031Z
LAST-MODIFIED:20240806T235733Z
UID:3416-1723143600-1723149000@surelsplace.org
SUMMARY:Daren Kendall: Across the Threshold
DESCRIPTION:EXHIBITION \n\n\n\n\n\n\n\n\n\nArtist in Residence Daren Kendall will present Threshold\, a sculptural exhibition and live event developed while in fellowship at Surel’s Place. Kendall’s artistic practice reflects the connection between sculpture\, architecture\, and place\, as he gives form to the relationships and experiences cultivated while working on location. Often in collaboration with other artists\, musicians\, and dancers\, his physical structures and instruments facilitate conversation and create a space to work and play. Drawings\, models\, and images provide interpretive scores and scripts to communicate the ineffable character and qualities of his experience. Recent artist residencies and collaborative events include\, ArteSumapaz Artist Residency\, Cundinamarca\, Colombia; and Istituto Universitario Olandese di Storia dell’Arte\, Florence\, Italy.
URL:https://surelsplace.org/event/daren-kendall-across-the-threshold/
LOCATION:Surel’s Place\, 212 E. 33rd Street\, Garden City\, 83714\, United States
CATEGORIES:Exhibition,Installations,Performance
ATTACH;FMTTYPE=image/png:https://surelsplace.org/wp-content/uploads/2024/07/banner.PORTRAIT2.png
END:VEVENT
END:VCALENDAR