BEGIN:VCALENDAR
VERSION:2.0
PRODID:-//Surel&#039;s Place - ECPv6.15.20//NONSGML v1.0//EN
CALSCALE:GREGORIAN
METHOD:PUBLISH
X-ORIGINAL-URL:https://surelsplace.org
X-WR-CALDESC:Events for Surel&#039;s Place
REFRESH-INTERVAL;VALUE=DURATION:PT1H
X-Robots-Tag:noindex
X-PUBLISHED-TTL:PT1H
BEGIN:VTIMEZONE
TZID:America/Boise
BEGIN:DAYLIGHT
TZOFFSETFROM:-0700
TZOFFSETTO:-0600
TZNAME:MDT
DTSTART:20250309T090000
END:DAYLIGHT
BEGIN:STANDARD
TZOFFSETFROM:-0600
TZOFFSETTO:-0700
TZNAME:MST
DTSTART:20251102T080000
END:STANDARD
BEGIN:DAYLIGHT
TZOFFSETFROM:-0700
TZOFFSETTO:-0600
TZNAME:MDT
DTSTART:20260308T090000
END:DAYLIGHT
BEGIN:STANDARD
TZOFFSETFROM:-0600
TZOFFSETTO:-0700
TZNAME:MST
DTSTART:20261101T080000
END:STANDARD
BEGIN:DAYLIGHT
TZOFFSETFROM:-0700
TZOFFSETTO:-0600
TZNAME:MDT
DTSTART:20270314T090000
END:DAYLIGHT
BEGIN:STANDARD
TZOFFSETFROM:-0600
TZOFFSETTO:-0700
TZNAME:MST
DTSTART:20271107T080000
END:STANDARD
END:VTIMEZONE
BEGIN:VEVENT
DTSTART;TZID=America/Boise:20260226T190000
DTEND;TZID=America/Boise:20260226T203000
DTSTAMP:20260423T180910
CREATED:20260201T004812Z
LAST-MODIFIED:20260203T172208Z
UID:5636-1772132400-1772137800@surelsplace.org
SUMMARY:THE ONE
DESCRIPTION:SHOWCASE / Q&ATHE ONEThursday\, February 26th | 7:00pm \n\n\n\nat The Creative Space: 121 E 34th St. in Garden City \n\n\n\n$10 | General Admissionfree | Surel’s Place Sustaining Members (with Special Passcode) \n\n\n\n\nTICKETS\n\n\n\n\nIn order to love somebody else\, you have to love yourself first. That’s what her mother once told her when she was 8 years old. Thirty years later\, Andrea wonders\, was she right? The self help gurus affirm it too! In order to find The One\, you not only have to love yourself\, but fall madly in love with yourself! Oh God…. In The One\, multidisciplinary performer Andrea Parson grapples with the notion of self love in an effort to find that special and elusive someone. A romantic partner\, herself\, something of the spiritual and unseen world\, or maybe The One is sitting right in front of her! Or maybe it’s a mangy cat who goes by the name of Couts.  \n\n\n\nThrough evocative movement\, storytelling\, and a clown sensibility\, Andrea juxtaposes her modern day search for love with images of a 14th century medieval anchoress. Who? You know\, those radical women who lived enclosed inside a small cell attached to a church as a bride of Christ. For real! Based on feedback and reflection from its initial performance in Portland this past summer\, Andrea has used the Surel’s Place residency to reimagine how she can tell her own autobiographical story through the further development of the Anchoress (whom she’s named Anna). \n\n\n\nAndrea invites the audience to join her as she weaves through excerpts from the show- in and out of a sacred\, comedic and personal reflection about love and loving. \n\n\n\nBIOGRAPHY \n\n\n\nAndrea Parson is a multidisciplinary theater artist born and raised in Hillsboro\, Oregon.  Andrea pursued dance training at the Joffrey Ballet School\, San Francisco Conservatory of Dance\, and Loyola Marymount University\, where she earned a BA in Dance in 2009. Following graduation\, she joined Northwest Dance Project in Portland\, Oregon\, where she was awarded the Princess Grace Dance Fellowship in 2010. Over 11 years with the company\, she performed nationally and internationally\, garnering acclaim for her portrayal of dramatic characters such as Hedda Gabler and Carmen.  \n\n\n\nNow based in Portland\, Andrea creates and performs original solo and ensemble work that merges contemporary dance\, physical theater\, storytelling\, and humor. Her recent award-winning solo\, You Can’t Be Serious\, was presented at BodyVox Dance Center (2023)\, Oregon Fringe Festival (2024)\, and Hollywood Fringe Festival (2024). Andrea presented You Can’t Be Serious at the Fall United Solo Festival 2024 in New York City where she received an award for best physical theater. \n\n\n\n\n\n\n\nThank you to Andrea Parson’s Residency Sponsors: \n\n\n\n\n\n\n\nThis programming is supported in part by Creative West and the National Endowment for the Arts:
URL:https://surelsplace.org/event/the-one/
LOCATION:The Creative Space\, 121 E 34th Street\, Garden City\, 83714
CATEGORIES:Performance
ATTACH;FMTTYPE=image/jpeg:https://surelsplace.org/wp-content/uploads/2026/01/Parson_2602_Instagram-1.jpg
END:VEVENT
END:VCALENDAR