BEGIN:VCALENDAR
VERSION:2.0
PRODID:-//Surel&#039;s Place - ECPv6.15.20//NONSGML v1.0//EN
CALSCALE:GREGORIAN
METHOD:PUBLISH
X-WR-CALNAME:Surel&#039;s Place
X-ORIGINAL-URL:https://surelsplace.org
X-WR-CALDESC:Events for Surel&#039;s Place
REFRESH-INTERVAL;VALUE=DURATION:PT1H
X-Robots-Tag:noindex
X-PUBLISHED-TTL:PT1H
BEGIN:VTIMEZONE
TZID:America/Boise
BEGIN:DAYLIGHT
TZOFFSETFROM:-0700
TZOFFSETTO:-0600
TZNAME:MDT
DTSTART:20220313T090000
END:DAYLIGHT
BEGIN:STANDARD
TZOFFSETFROM:-0600
TZOFFSETTO:-0700
TZNAME:MST
DTSTART:20221106T080000
END:STANDARD
BEGIN:DAYLIGHT
TZOFFSETFROM:-0700
TZOFFSETTO:-0600
TZNAME:MDT
DTSTART:20230312T090000
END:DAYLIGHT
BEGIN:STANDARD
TZOFFSETFROM:-0600
TZOFFSETTO:-0700
TZNAME:MST
DTSTART:20231105T080000
END:STANDARD
BEGIN:DAYLIGHT
TZOFFSETFROM:-0700
TZOFFSETTO:-0600
TZNAME:MDT
DTSTART:20240310T090000
END:DAYLIGHT
BEGIN:STANDARD
TZOFFSETFROM:-0600
TZOFFSETTO:-0700
TZNAME:MST
DTSTART:20241103T080000
END:STANDARD
BEGIN:DAYLIGHT
TZOFFSETFROM:-0700
TZOFFSETTO:-0600
TZNAME:MDT
DTSTART:20250309T090000
END:DAYLIGHT
BEGIN:STANDARD
TZOFFSETFROM:-0600
TZOFFSETTO:-0700
TZNAME:MST
DTSTART:20251102T080000
END:STANDARD
END:VTIMEZONE
BEGIN:VEVENT
DTSTART;TZID=America/Boise:20240127T193000
DTEND;TZID=America/Boise:20240127T203000
DTSTAMP:20260423T164817
CREATED:20240109T222410Z
LAST-MODIFIED:20240109T222412Z
UID:2857-1706383800-1706387400@surelsplace.org
SUMMARY:Mrs. Kuhn
DESCRIPTION:Preview performance of Sonya Feibert’s one-woman show exploring family and memory.
URL:https://surelsplace.org/event/mrs-kuhn-2/
LOCATION:Surel’s Place\, 212 E. 33rd Street\, Garden City\, 83714\, United States
CATEGORIES:Performance
ATTACH;FMTTYPE=image/jpeg:https://surelsplace.org/wp-content/uploads/2024/01/IBWWC23-116.jpg
END:VEVENT
BEGIN:VEVENT
DTSTART;TZID=America/Boise:20240126T193000
DTEND;TZID=America/Boise:20240126T203000
DTSTAMP:20260423T164817
CREATED:20240109T222228Z
LAST-MODIFIED:20240109T222229Z
UID:2854-1706297400-1706301000@surelsplace.org
SUMMARY:Mrs. Kuhn
DESCRIPTION:Preview performance of Sonya Feibert’s one-woman show exploring family and memory.
URL:https://surelsplace.org/event/mrs-kuhn/
LOCATION:Surel’s Place\, 212 E. 33rd Street\, Garden City\, 83714\, United States
CATEGORIES:Performance
ATTACH;FMTTYPE=image/jpeg:https://surelsplace.org/wp-content/uploads/2024/01/IBWWC23-116.jpg
END:VEVENT
BEGIN:VEVENT
DTSTART;TZID=America/Boise:20231011T190000
DTEND;TZID=America/Boise:20231011T210000
DTSTAMP:20260423T164817
CREATED:20230913T212657Z
LAST-MODIFIED:20230913T212659Z
UID:2342-1697050800-1697058000@surelsplace.org
SUMMARY:McKenna Esteb: Show & Tell
DESCRIPTION:What is emotional freedom? McKenna Esteb sees it as the ability to identify difficult emotions and learn from them – liberating yourself from negative feelings rather than attaching to them. Rather than predict the genre of music she will create during her residency at Surel’s Place\, McKenna is challenging herself to write a set of songs by letting the music flow nautually and see what inspires her. She will share this new music with voice and piano during this performance followed by a Q & A.At the age of 21\, McKenna Esteb was diagnosed with Borderline Personality Disorder (BPD). “I recognized recurring patterns in my life that I felt I had no control over. I disliked myself deeply. This affected my self worth\, relationships\, and my ability to create.” Once diagnosed\, she started to connect to her music on a much deeper level and started to create more freely and frequently. This evening of new music is a continuation of that journey and the discovery of where emotional freedom and creative freedom intersect. \n\n\nMcKenna EstebSeptember-October\n\n\n\n\nWhile not unheard of to have a local artist in residence at Surel's Place\, it doesn't happen very often. McKenna Esteb grew up in Snoqualmie Wash. — where her love for music began — performing in talent shows\, at coffee shops and restaurants around the greater Seattle area. Throughout her career\, she has called both Austin\, Texas\, and Boise\, ID home. Since releasing her first single in 2019\, her career has taken many different forms. Pivoting from 2-3 hour cover shows at coffee shops\, she began performing her own musical project at Treefort\, Flipside\, Boise Pride\, and opening for touring bands like The Suffers. Her vocal style is heavily influenced by the likes of Norah Jones\, Etta James\, and Amy Winehouse. The roots of her music have soul and funk influences mixed into a nice cocktail of pop/modern rock. Her music is vulnerable\, direct\, and influenced by her life experiences. In most recent projects\, she wrote about Row v. Wade being overturned and donated all profits received from streams to Northwest Abortion Access Fund. With songs ranging from power ballads to rocking out\, she is guaranteed to keep her music relatable and raw. \n\n\n\nOur selection panelists universally recommended Esteb for the residency\, even over out-of-town applicants. Eric Alexander\, one of these panelists\, wrote that\, "I feel McKenna is poised to do great things\, I hope a residency would allow her to move to the next phase of her creativity." And that's what she hopes to do. \n\n\n\nDuring her residency\, Esteb led a workshop on journaling. She shared her experience with journaling: personal tips\, how to workshop creative ideas\, and how to release tension in the body through journaling. For her culminating event\, Esteb performed the songs created during her residency and told the stories behind each one. \n\n\n\nWatch an interview Esteb gave during her residency with Idaho News 6.
URL:https://surelsplace.org/event/mckenna-esteb-show-tell/
LOCATION:Audio Lab\, 3640 Osage Street\, Garden City\, Idaho\, 83714
CATEGORIES:Performance
END:VEVENT
BEGIN:VEVENT
DTSTART;TZID=America/Boise:20230923T150000
DTEND;TZID=America/Boise:20230923T210000
DTSTAMP:20260423T164817
CREATED:20230815T172729Z
LAST-MODIFIED:20230919T215834Z
UID:2220-1695481200-1695502800@surelsplace.org
SUMMARY:Flipside Fest\, Day 2
DESCRIPTION:Surel’s Place once again hosts a music and arts venue at the 2nd Annual Flipside Fest in the Surel Mitchell Live-Work-Create District. Details to come soon!
URL:https://surelsplace.org/event/flipside-fest-day-2/
LOCATION:Surel’s Place\, 212 E. 33rd Street\, Garden City\, 83714\, United States
CATEGORIES:Exhibition,Performance,Special Event
END:VEVENT
BEGIN:VEVENT
DTSTART;TZID=America/Boise:20230922T170000
DTEND;TZID=America/Boise:20230922T210000
DTSTAMP:20260423T164817
CREATED:20230815T172506Z
LAST-MODIFIED:20230919T215758Z
UID:2217-1695402000-1695416400@surelsplace.org
SUMMARY:Flipside Fest\, Day 1
DESCRIPTION:Surel’s Place once again hosts a music and arts venue at the 2nd Annual Flipside Fest in the Surel Mitchell Live-Work-Create District. Details to come soon!
URL:https://surelsplace.org/event/flipside-fest-day-1/
LOCATION:Surel’s Place\, 212 E. 33rd Street\, Garden City\, 83714\, United States
CATEGORIES:Exhibition,Performance,Special Event
END:VEVENT
BEGIN:VEVENT
DTSTART;TZID=America/Boise:20230620T200000
DTEND;TZID=America/Boise:20230620T213000
DTSTAMP:20260423T164817
CREATED:20230424T153521Z
LAST-MODIFIED:20230504T171352Z
UID:2023-1687291200-1687296600@surelsplace.org
SUMMARY:An Evening With Eilen Jewell: Surel's Place Summer Fundraising Garden Party
DESCRIPTION:Surel’s Place is honored to host the woman American Songwriter has called “one of America’s most intriguing\, creative\, and idiosyncratic voices” at our summer fundraiser — featuring both an intimate concert and an even more limited number of seats at an exclusive family-style meal in Surel’s own dining room.  \n\n\n\nIdaho native Eilen Jewell has shared bills with the likes of Lucinda Williams\, Loretta Lynn\, Mavis Staples\, Wanda Jackson\, George Jones\, Emmylou Harris\, and The Blind Boys of Alabama. Rolling Stone lauded her “clever writing\,” while NPR declared that she has a “sweet and clear voice with a killer instinct lurking beneath the shiny surface.” The Washington Post mused that “if Neko Case\, Madeleine Peyroux and Billie Holiday had a baby girl who grew up to front a rockabilly band\, she’d probably sound a lot like Eilen Jewell.” You can learn more about Eilen and her music on her website\, eilenjewell.com. \n\n\n\nEilen is donating her time and talents to raise money for the arts and artists through Surel’s Place\, and we are grateful that we get to extend this unique chance to hear her deeply personal work in a rare solo performance.  \n\n\n\nWe are equally grateful for our presenting sponsors at Holland & Hart for the support that is making this evening possible.  \n\n\n\nIn addition to the general admission tickets available below\, a limited number of seats are available for an intimate family-style dinner of authentic Puerto Rican cuisine catered by our Garden City neighbors at Wepa Cafe. You can purchase seats for dinner and the show here.
URL:https://surelsplace.org/event/an-evening-with-eilen-jewell-surels-place-summer-fundraising-garden-party/
LOCATION:Surel’s Place\, 212 E. 33rd Street\, Garden City\, 83714\, United States
CATEGORIES:Performance,Special Event
ATTACH;FMTTYPE=image/jpeg:https://surelsplace.org/wp-content/uploads/2023/04/Untitled-scaled.jpg
END:VEVENT
BEGIN:VEVENT
DTSTART;TZID=America/Boise:20230615T190000
DTEND;TZID=America/Boise:20230615T203000
DTSTAMP:20260423T164818
CREATED:20230520T221049Z
LAST-MODIFIED:20230520T221053Z
UID:2061-1686855600-1686861000@surelsplace.org
SUMMARY:Sound Topography: A Live Performance by The Wind and All Around Cowboy
DESCRIPTION:The Wind is a podcast by Fil Corbitt (they/them)\, made at a handmade desk in the Sierra Nevada. This performance will mix script reading\, interview clips and immersive soundscapes to create a full audio experience. Fil has performed The Wind at Treefort the last three years\, and their work has appeared on NPR\, CBC\, Outside Magazine\, 99% Invisible\, Snap Judgement and The National Cowboy Poetry Gathering\, among many others. \n\n\n\nYou can only hear the wind in relation to what it’s scraping up against. Fil’s podcast The Wind works that way too: though it’s usually made from a quiet desk in the woods in a mountain wilderness\, the show often touches on topics more loud and confronting. From the politics of sound (Whip Law: an exploration of Reno’s houseless whip culture\, aired nationally)\, to queer spaces (They/Them)\, radical Brazilian punk\, train yards\, and rodeo chutes\, Fil’s work aims to observe and meditate on the way sound shapes our lives both overtly and ethereally. You can learn more at TheWind.org. \n\n\n\nThe evening will also feature local Boise artist\, All Around Cowboy. In live shows blending folk music and performance poetry with kabbalistic mysticism\, his work explores alternative Americanas. Both his music and his poetry are structured around loops: layered chords and ambiences as well as repeating names and images. His other projects include the podcast Sage Country Fragments\, the found sound project The Living Room Orchestra\, and the stage plays Has This Ever Happened To You? and Administrative Leave. \n\n\n\nFree!
URL:https://surelsplace.org/event/sound-topography-a-live-performance-by-the-wind-and-all-around-cowboy/
LOCATION:Surel’s Place\, 212 E. 33rd Street\, Garden City\, 83714\, United States
CATEGORIES:Performance,Special Event
ATTACH;FMTTYPE=image/jpeg:https://surelsplace.org/wp-content/uploads/2023/05/wind.jpeg
END:VEVENT
BEGIN:VEVENT
DTSTART;TZID=America/Boise:20230513T190000
DTEND;TZID=America/Boise:20230513T203000
DTSTAMP:20260423T164818
CREATED:20230414T172606Z
LAST-MODIFIED:20230420T222534Z
UID:2006-1684004400-1684009800@surelsplace.org
SUMMARY:From Eternity's Yurt: A Night of Poetry\, Philosophy and Music
DESCRIPTION:Poet Diane Raptosh returns to Surel’s Place with Hand Signs from Eternity’s Yurt\, a chapbook of poems featuring 22 sonnets. Each of the poems springs from a quotation by the British moral philosopher Mary Midgley\, who has a reputation as one of the most expansive and compelling moral philosophers of the twentieth century. “She thinks very much like a poet\,” Diane says of Mary Midgley. “The themes are very down to earth and contemporary: the environment\, animal rights\, civic unease.” \n\n\n\nDiane has invited Greg McElwain\, Professor and Chair of Philosophy and Religious Studies at The College of Idaho\, to join her. McElwain published Mary Midgley: An Introduction\, which is the first substantive introduction to Midgley’s influential philosophy on the human condition. Joining both Diane and Greg is their musician friend Scott Knickerbocker who will punctuate the words with tunes on the guitar. \n\n\n\nFree!
URL:https://surelsplace.org/event/hand-signs-from-eternitys-yurt-an-evening-of-poetry-philosophy-and-banjo/
LOCATION:Surel’s Place\, 212 E. 33rd Street\, Garden City\, 83714\, United States
CATEGORIES:Performance,Reading,Special Event
END:VEVENT
END:VCALENDAR