BEGIN:VCALENDAR
VERSION:2.0
PRODID:-//Surel&#039;s Place - ECPv6.15.20//NONSGML v1.0//EN
CALSCALE:GREGORIAN
METHOD:PUBLISH
X-WR-CALNAME:Surel&#039;s Place
X-ORIGINAL-URL:https://surelsplace.org
X-WR-CALDESC:Events for Surel&#039;s Place
REFRESH-INTERVAL;VALUE=DURATION:PT1H
X-Robots-Tag:noindex
X-PUBLISHED-TTL:PT1H
BEGIN:VTIMEZONE
TZID:America/Boise
BEGIN:DAYLIGHT
TZOFFSETFROM:-0700
TZOFFSETTO:-0600
TZNAME:MDT
DTSTART:20250309T090000
END:DAYLIGHT
BEGIN:STANDARD
TZOFFSETFROM:-0600
TZOFFSETTO:-0700
TZNAME:MST
DTSTART:20251102T080000
END:STANDARD
BEGIN:DAYLIGHT
TZOFFSETFROM:-0700
TZOFFSETTO:-0600
TZNAME:MDT
DTSTART:20260308T090000
END:DAYLIGHT
BEGIN:STANDARD
TZOFFSETFROM:-0600
TZOFFSETTO:-0700
TZNAME:MST
DTSTART:20261101T080000
END:STANDARD
BEGIN:DAYLIGHT
TZOFFSETFROM:-0700
TZOFFSETTO:-0600
TZNAME:MDT
DTSTART:20270314T090000
END:DAYLIGHT
BEGIN:STANDARD
TZOFFSETFROM:-0600
TZOFFSETTO:-0700
TZNAME:MST
DTSTART:20271107T080000
END:STANDARD
END:VTIMEZONE
BEGIN:VEVENT
DTSTART;TZID=America/Boise:20260504T170000
DTEND;TZID=America/Boise:20260504T193000
DTSTAMP:20260421T111749
CREATED:20260408T011217Z
LAST-MODIFIED:20260421T005723Z
UID:5863-1777914000-1777923000@surelsplace.org
SUMMARY:Sean Hatton Trio - IDAHO GIVES
DESCRIPTION:IDAHO GIVES KICK OFF CELEBRATION & MUSIC FEATURING:SEAN HATTON TRIOMonday\, May 4th5:00pm Happy Hour | 6:00pm – 7:30pm Music \n\n\n\nat Surel’s Place: 212 E 33rd Street in Garden City \n\n\n\nfree with a suggested donation of $20 or more to Help Surel’s Place Reach Our $7\,000 Goal: RSVP \n\n\n\n\nRSVP\n\n\n\n\nIdaho Gives BEGINS! \n\n\n\nJoin Surel’s Place for a special kick-off event for Idaho Gives. Held annually\, Idaho Gives encompasses the span of 4 philanthropic days (May 4th – 7th) where the community comes together in support of its nonprofits by raising money and raising awareness. We are pleased to present the Sean Hatton Trio at Surel’s Place in support of this statewide enterprise. Join us with the Sean Hatton Trio to celebrate our mission – to support artists by providing them time and space to explore their creative process\, cultivating a connected\, vibrant\, and inspiring community. \n\n\n\n“Called one of Idaho’s best by the Idaho Statesman – The building harmonies and talents of vocalist Sean Hatton might take you back to the days when Crosby\, Stills\, and Nash were kings of folk. The band’s sound is unabashedly Americana at its best.” – Amy Busek / Idaho Mountain Press
URL:https://surelsplace.org/event/sean-hatton-trio-house-show/
LOCATION:Surel’s Place\, 212 E. 33rd Street\, Garden City\, 83714\, United States
CATEGORIES:Fundraiser,Performance,Special Event
ATTACH;FMTTYPE=image/png:https://surelsplace.org/wp-content/uploads/2026/04/SH-ludus-banner2.png
END:VEVENT
END:VCALENDAR