BEGIN:VCALENDAR
VERSION:2.0
PRODID:-//Surel&#039;s Place - ECPv6.15.20//NONSGML v1.0//EN
CALSCALE:GREGORIAN
METHOD:PUBLISH
X-ORIGINAL-URL:https://surelsplace.org
X-WR-CALDESC:Events for Surel&#039;s Place
REFRESH-INTERVAL;VALUE=DURATION:PT1H
X-Robots-Tag:noindex
X-PUBLISHED-TTL:PT1H
BEGIN:VTIMEZONE
TZID:America/Boise
BEGIN:DAYLIGHT
TZOFFSETFROM:-0700
TZOFFSETTO:-0600
TZNAME:MDT
DTSTART:20230312T090000
END:DAYLIGHT
BEGIN:STANDARD
TZOFFSETFROM:-0600
TZOFFSETTO:-0700
TZNAME:MST
DTSTART:20231105T080000
END:STANDARD
BEGIN:DAYLIGHT
TZOFFSETFROM:-0700
TZOFFSETTO:-0600
TZNAME:MDT
DTSTART:20240310T090000
END:DAYLIGHT
BEGIN:STANDARD
TZOFFSETFROM:-0600
TZOFFSETTO:-0700
TZNAME:MST
DTSTART:20241103T080000
END:STANDARD
BEGIN:DAYLIGHT
TZOFFSETFROM:-0700
TZOFFSETTO:-0600
TZNAME:MDT
DTSTART:20250309T090000
END:DAYLIGHT
BEGIN:STANDARD
TZOFFSETFROM:-0600
TZOFFSETTO:-0700
TZNAME:MST
DTSTART:20251102T080000
END:STANDARD
END:VTIMEZONE
BEGIN:VEVENT
DTSTART;TZID=America/Boise:20240210T130000
DTEND;TZID=America/Boise:20240210T160000
DTSTAMP:20260425T093129
CREATED:20240126T215711Z
LAST-MODIFIED:20240126T220826Z
UID:2904-1707570000-1707580800@surelsplace.org
SUMMARY:Workshop: Experiencing Color with Lori Larusso
DESCRIPTION:This workshop will give participants a base understanding of how to intentionally engage color in the making of their own artworks\, and how to discuss color in most visual settings. The objective properties of color (hue\, value\, and saturation) as well as subjective properties of color and phenomenology will be central to our discussion and workshop exercise. No particular art making skill set is required. \n\n\n\nAges 16 & upPartial scholarships are available by request to info@surelsplace.orgSurel’s Place is wheelchair accessible.
URL:https://surelsplace.org/event/experiencing-color/
LOCATION:Surel’s Place\, 212 E. 33rd Street\, Garden City\, 83714\, United States
CATEGORIES:Workshop
ATTACH;FMTTYPE=image/jpeg:https://surelsplace.org/wp-content/uploads/2024/01/Larusso_PrecariousPanoplyDetail1-reduced-size.jpg
END:VEVENT
END:VCALENDAR