BEGIN:VCALENDAR
VERSION:2.0
PRODID:-//Surel&#039;s Place - ECPv6.15.20//NONSGML v1.0//EN
CALSCALE:GREGORIAN
METHOD:PUBLISH
X-WR-CALNAME:Surel&#039;s Place
X-ORIGINAL-URL:https://surelsplace.org
X-WR-CALDESC:Events for Surel&#039;s Place
REFRESH-INTERVAL;VALUE=DURATION:PT1H
X-Robots-Tag:noindex
X-PUBLISHED-TTL:PT1H
BEGIN:VTIMEZONE
TZID:America/Boise
BEGIN:DAYLIGHT
TZOFFSETFROM:-0700
TZOFFSETTO:-0600
TZNAME:MDT
DTSTART:20230312T090000
END:DAYLIGHT
BEGIN:STANDARD
TZOFFSETFROM:-0600
TZOFFSETTO:-0700
TZNAME:MST
DTSTART:20231105T080000
END:STANDARD
BEGIN:DAYLIGHT
TZOFFSETFROM:-0700
TZOFFSETTO:-0600
TZNAME:MDT
DTSTART:20240310T090000
END:DAYLIGHT
BEGIN:STANDARD
TZOFFSETFROM:-0600
TZOFFSETTO:-0700
TZNAME:MST
DTSTART:20241103T080000
END:STANDARD
BEGIN:DAYLIGHT
TZOFFSETFROM:-0700
TZOFFSETTO:-0600
TZNAME:MDT
DTSTART:20250309T090000
END:DAYLIGHT
BEGIN:STANDARD
TZOFFSETFROM:-0600
TZOFFSETTO:-0700
TZNAME:MST
DTSTART:20251102T080000
END:STANDARD
END:VTIMEZONE
BEGIN:VEVENT
DTSTART;TZID=America/Boise:20240330T130000
DTEND;TZID=America/Boise:20240330T160000
DTSTAMP:20260425T080626
CREATED:20240307T014043Z
LAST-MODIFIED:20240307T014520Z
UID:2980-1711803600-1711814400@surelsplace.org
SUMMARY:Workshop: Creating Reusable Plaster Molds and Single-Use Alginate
DESCRIPTION:Artists\, sculptors\, craft enthusiasts\, and anyone interested in exploring the art of casting are encouraged to register. \n\n\n\nThis workshop provides participants with hands-on experience in crafting both reusable plaster molds and single-use alginate molds. Whether you’re interested in casting a hand sculpture or an object of your choice\, this workshop will equip you with the essential skills to turn your creative ideas into tangible works of art. Artists\, sculptors\, craft enthusiasts\, and anyone interested in exploring the art of casting are encouraged to register. All materials will be provided. \n\n\n\nBiography: Karolina Majewska Freeing is a visual artist based in Warsaw\, Poland. She holds an MFA in Photography\, Video\, and Related Media from the School of Visual Arts in New York (2017) and an MFA in Painting from the Warsaw Academy of Fine Arts (2014). Karolina’s recent work explores the fragility and organic qualities of the human body. Her installations feature natural materials such as wax\, wood\, and clay. Karolina’s work has been exhibited in Poland\, Germany\, Italy\, Lithuania\, Austria\, Cyprus\, Switzerland and the United States. She has participated in conferences and talks related to her practice during Manifesta 12; Rixc\, Art and Science Festival\, Open Field Conference\, and more. \n\n\n\nSurel’s Place is accessible by wheel chair.Partial scholarships are available by request to info@surelsplace.org. \n\n\n\nREGISTER HERE: surelsplace.ludus.com
URL:https://surelsplace.org/event/workshop-creating-reusable-plaster-molds-and-single-use-alginate/
LOCATION:Surel’s Place\, 212 E. 33rd Street\, Garden City\, 83714\, United States
CATEGORIES:Workshop
ATTACH;FMTTYPE=image/jpeg:https://surelsplace.org/wp-content/uploads/2024/03/24-03-freeing-Eventbrite.jpg
END:VEVENT
END:VCALENDAR