BEGIN:VCALENDAR
VERSION:2.0
PRODID:-//Surel&#039;s Place - ECPv6.15.20//NONSGML v1.0//EN
CALSCALE:GREGORIAN
METHOD:PUBLISH
X-WR-CALNAME:Surel&#039;s Place
X-ORIGINAL-URL:https://surelsplace.org
X-WR-CALDESC:Events for Surel&#039;s Place
REFRESH-INTERVAL;VALUE=DURATION:PT1H
X-Robots-Tag:noindex
X-PUBLISHED-TTL:PT1H
BEGIN:VTIMEZONE
TZID:America/Boise
BEGIN:DAYLIGHT
TZOFFSETFROM:-0700
TZOFFSETTO:-0600
TZNAME:MDT
DTSTART:20230312T090000
END:DAYLIGHT
BEGIN:STANDARD
TZOFFSETFROM:-0600
TZOFFSETTO:-0700
TZNAME:MST
DTSTART:20231105T080000
END:STANDARD
BEGIN:DAYLIGHT
TZOFFSETFROM:-0700
TZOFFSETTO:-0600
TZNAME:MDT
DTSTART:20240310T090000
END:DAYLIGHT
BEGIN:STANDARD
TZOFFSETFROM:-0600
TZOFFSETTO:-0700
TZNAME:MST
DTSTART:20241103T080000
END:STANDARD
BEGIN:DAYLIGHT
TZOFFSETFROM:-0700
TZOFFSETTO:-0600
TZNAME:MDT
DTSTART:20250309T090000
END:DAYLIGHT
BEGIN:STANDARD
TZOFFSETFROM:-0600
TZOFFSETTO:-0700
TZNAME:MST
DTSTART:20251102T080000
END:STANDARD
END:VTIMEZONE
BEGIN:VEVENT
DTSTART;TZID=America/Boise:20241003T190000
DTEND;TZID=America/Boise:20241003T210000
DTSTAMP:20260424T213414
CREATED:20240912T201223Z
LAST-MODIFIED:20240924T215632Z
UID:3811-1727982000-1727989200@surelsplace.org
SUMMARY:Embroidery Workshop
DESCRIPTION:Join Artist-in-Residence Laurie Shapiro for a fun and easy embroidery workshop suitable for kids and adults. In this session\, we’ll be creating embroidered designs of your choice. While materials are provided\, feel free to bring your own\, such as a jacket or shirt\, and come with an idea of what you’d like to embroider\, whether it’s a printout or a personal drawing. We look forward to seeing your creativity! \n\n\n\nBIOGRAPHY \n\n\n\nLaurie Shapiro (b.1990) creates immersive dreamscapes based on interconnectivity and oneness with nature. Being hard-of-hearing\, her experience of the outer world is often muted\, while her inner world is amplified. These internal emotional experiences manifest as vibrant and captivating visuals\, enveloping viewers in a realm of color and wonder. Paintings are particularly expressive\, with subjects often using exaggerated gestures to communicate. “I primarily understand the world through visual stimuli and internal feelings\, and this\, in turn\, colors all of my work\,” she adds. Central to her artistic practice are screen-printed floral patterns and imagery—drawings of plants that “speak” to her. \n\n\n\nHer art has been commissioned and shown at various institutions\, including the Dyer Arts Center\, San Diego Museum of Art\, and San Luis Obispo Museum of Art. Over the past decade\, Shapiro has regularly exhibited solo and group exhibitions with galleries and museums across the country and is the recipient of multiple grants.  She has completed artist residencies at the American Academy in Rome\, the Kala Art Institute in Berkeley\, and the San Jose Museum of Quilts and Textiles.  Shapiro received her BFA from Carnegie Mellon University and studied abroad at Bilkent University. \n\n\n\nLaurie is offering another workshop: Introduction to Screen Printing\, on September 28 \n\n\n\nAlso\, be sure to attend her installation\, Meditated Landscape\, as part of the Boise Open Studios Tour October 12th & 13th from 10am-6pm. \n\n\n\n\n\nREGISTER HERE
URL:https://surelsplace.org/event/embroidery-workshop/
LOCATION:Surel’s Place\, 212 E. 33rd Street\, Garden City\, 83714\, United States
CATEGORIES:Workshop
ATTACH;FMTTYPE=image/png:https://surelsplace.org/wp-content/uploads/2024/09/Screenshot-2024-09-20-at-12.11.10 PM.png
END:VEVENT
END:VCALENDAR