BEGIN:VCALENDAR
VERSION:2.0
PRODID:-//Surel&#039;s Place - ECPv6.15.20//NONSGML v1.0//EN
CALSCALE:GREGORIAN
METHOD:PUBLISH
X-WR-CALNAME:Surel&#039;s Place
X-ORIGINAL-URL:https://surelsplace.org
X-WR-CALDESC:Events for Surel&#039;s Place
REFRESH-INTERVAL;VALUE=DURATION:PT1H
X-Robots-Tag:noindex
X-PUBLISHED-TTL:PT1H
BEGIN:VTIMEZONE
TZID:America/Boise
BEGIN:DAYLIGHT
TZOFFSETFROM:-0700
TZOFFSETTO:-0600
TZNAME:MDT
DTSTART:20230312T090000
END:DAYLIGHT
BEGIN:STANDARD
TZOFFSETFROM:-0600
TZOFFSETTO:-0700
TZNAME:MST
DTSTART:20231105T080000
END:STANDARD
BEGIN:DAYLIGHT
TZOFFSETFROM:-0700
TZOFFSETTO:-0600
TZNAME:MDT
DTSTART:20240310T090000
END:DAYLIGHT
BEGIN:STANDARD
TZOFFSETFROM:-0600
TZOFFSETTO:-0700
TZNAME:MST
DTSTART:20241103T080000
END:STANDARD
BEGIN:DAYLIGHT
TZOFFSETFROM:-0700
TZOFFSETTO:-0600
TZNAME:MDT
DTSTART:20250309T090000
END:DAYLIGHT
BEGIN:STANDARD
TZOFFSETFROM:-0600
TZOFFSETTO:-0700
TZNAME:MST
DTSTART:20251102T080000
END:STANDARD
END:VTIMEZONE
BEGIN:VEVENT
DTSTART;TZID=America/Boise:20241207T130000
DTEND;TZID=America/Boise:20241207T160000
DTSTAMP:20260424T183526
CREATED:20241101T233018Z
LAST-MODIFIED:20241121T002302Z
UID:3903-1733576400-1733587200@surelsplace.org
SUMMARY:Workshop: Choreographic Writing
DESCRIPTION:Artist in residence Maxine Flasher-Düzgüneş will lead an introduction to using poetry scores in the creation of movement. It will consist of a physical and written improvisatory warm-up using the language aesthetics of erasure poetry technique\, a form of found poetry where pre-existing text is blacked out to form new sequences of text. The warm-up will be followed by a composition exercise with poetry scores and an opportunity to share discoveries made within the creative process. \n\n\n\nWorkshop participants will have the opportunity to contribute their own poems as well as respond to the poems through movement. All poems by attendees will be displayed at Surel’s Place during open studio hours and during a culminating installation at the end of the month. \n\n\n\nThis workshop has been offered both online and in-person at NYU Tisch\, University of Roehampton\, Shawl Anderson Dance Center\, Big Sky Workshop\, The Writer’s Nest\, The Collective SF\, Ruth Asawa School of the Arts\, Gallery Route One\, CalPoets in the Schools\, and more! \n\n\n\nDate was changed from 11/23 to 12/7 to allow for increased participation.  \n\n\n\nREGISTER HERE
URL:https://surelsplace.org/event/workshop-choreographic-writing/
LOCATION:Surel’s Place\, 212 E. 33rd Street\, Garden City\, 83714\, United States
CATEGORIES:Workshop
ATTACH;FMTTYPE=image/png:https://surelsplace.org/wp-content/uploads/2024/11/drawn-on-film-3.png
END:VEVENT
END:VCALENDAR