BEGIN:VCALENDAR
VERSION:2.0
PRODID:-//Surel&#039;s Place - ECPv6.15.20//NONSGML v1.0//EN
CALSCALE:GREGORIAN
METHOD:PUBLISH
X-WR-CALNAME:Surel&#039;s Place
X-ORIGINAL-URL:https://surelsplace.org
X-WR-CALDESC:Events for Surel&#039;s Place
REFRESH-INTERVAL;VALUE=DURATION:PT1H
X-Robots-Tag:noindex
X-PUBLISHED-TTL:PT1H
BEGIN:VTIMEZONE
TZID:America/Boise
BEGIN:DAYLIGHT
TZOFFSETFROM:-0700
TZOFFSETTO:-0600
TZNAME:MDT
DTSTART:20240310T090000
END:DAYLIGHT
BEGIN:STANDARD
TZOFFSETFROM:-0600
TZOFFSETTO:-0700
TZNAME:MST
DTSTART:20241103T080000
END:STANDARD
BEGIN:DAYLIGHT
TZOFFSETFROM:-0700
TZOFFSETTO:-0600
TZNAME:MDT
DTSTART:20250309T090000
END:DAYLIGHT
BEGIN:STANDARD
TZOFFSETFROM:-0600
TZOFFSETTO:-0700
TZNAME:MST
DTSTART:20251102T080000
END:STANDARD
BEGIN:DAYLIGHT
TZOFFSETFROM:-0700
TZOFFSETTO:-0600
TZNAME:MDT
DTSTART:20260308T090000
END:DAYLIGHT
BEGIN:STANDARD
TZOFFSETFROM:-0600
TZOFFSETTO:-0700
TZNAME:MST
DTSTART:20261101T080000
END:STANDARD
END:VTIMEZONE
BEGIN:VEVENT
DTSTART;TZID=America/Boise:20250125T130000
DTEND;TZID=America/Boise:20250125T160000
DTSTAMP:20260424T170605
CREATED:20241226T193839Z
LAST-MODIFIED:20241226T193841Z
UID:4063-1737810000-1737820800@surelsplace.org
SUMMARY:Walk with Artificial Intelligence: Envisioning a Collaborative Future in Our Community
DESCRIPTION:Artist-in-Residence Song Lu delves into the fascinating history and development of Artificial Intelligence (AI)\, with a particular focus on its intersection with the art field. She’ll lead participants in an exploration of how AI originated\, its evolution over time\, and its profound impact on various aspects of our lives. By examining the connections between AI and art\, this workshop aims to uncover the underlying issues and ethical considerations associated with this cutting-edge technology. Through engaging discussions and interactive activities\, participants will gain a deeper understanding of AI’s role in shaping our world and expand their imagination about this innovative tool while also critiquing the numerous issues behind it. \n\n\n\nAges 15 & up \n\n\n\n$35 \n\n\n\nREGISTER HERE \n\n\n\nPartial scholarships available upon request \n\n\n\n \n\n\n\nBiography \n\n\n\nEven during her childhood in her homeland of China\, Song Lu knew she had a passion for making things no one had seen before. This inspired her to pursue a career as an artist and move to New York to obtain an MFA in Photography\, Video\, and Related Media from the School of Visual Arts\, where she graduated in 2021. \n\n\n\n“There is nothing else in the world that compares to the feeling of creating something from scratch and seeing it come to life before my very eyes\,” she writes. Lu’s art explores the multiple dimensions of memory\, emotion\, and relationships\, with a focus on personal consciousness in the context of social experience. Working across a variety of visual media\, including photography\, video\, 3D animation\, and artificial intelligence-generated images\, Lu’s work breaks down the traditional boundaries of the familiar\, while reinterpreting and redefining them in a playful way. By presenting the intricate connections between things\, she provides the viewer with multiple perspectives on the world around them. \n\n\n\nSong Lu’s work has been shown in various art exhibitions and screenings in different cities and regions\, including ZAZ 10 TS in New York\, Flatiron Project Space in New York\, UNTITLED Art Fair in Miami\, Breeze Art Fair in Seoul\, PHOTOFAIR Shanghai in Shanghai\, Advance Art Museum in Changsha\, CICA Museum in South Korea\, UNFOLD Art Book Fair in Shanghai\, Unlimited Edition Seoul Art Book Fair in Seoul\, and others. Song Lu is also one of the “20 exciting artists to watch\,” as chosen by the editors of Art in America magazine in the 2024 Fall Talent Issue.
URL:https://surelsplace.org/event/walk-with-artificial-intelligence-envisioning-a-collaborative-future-in-our-community/
LOCATION:Surel’s Place\, 212 E. 33rd Street\, Garden City\, 83714\, United States
CATEGORIES:Workshop
ATTACH;FMTTYPE=image/png:https://surelsplace.org/wp-content/uploads/2024/12/Song-Lu_Hum-ai-n_Poster.png
END:VEVENT
END:VCALENDAR