BEGIN:VCALENDAR
VERSION:2.0
PRODID:-//Surel&#039;s Place - ECPv6.15.20//NONSGML v1.0//EN
CALSCALE:GREGORIAN
METHOD:PUBLISH
X-WR-CALNAME:Surel&#039;s Place
X-ORIGINAL-URL:https://surelsplace.org
X-WR-CALDESC:Events for Surel&#039;s Place
REFRESH-INTERVAL;VALUE=DURATION:PT1H
X-Robots-Tag:noindex
X-PUBLISHED-TTL:PT1H
BEGIN:VTIMEZONE
TZID:America/Boise
BEGIN:DAYLIGHT
TZOFFSETFROM:-0700
TZOFFSETTO:-0600
TZNAME:MDT
DTSTART:20240310T090000
END:DAYLIGHT
BEGIN:STANDARD
TZOFFSETFROM:-0600
TZOFFSETTO:-0700
TZNAME:MST
DTSTART:20241103T080000
END:STANDARD
BEGIN:DAYLIGHT
TZOFFSETFROM:-0700
TZOFFSETTO:-0600
TZNAME:MDT
DTSTART:20250309T090000
END:DAYLIGHT
BEGIN:STANDARD
TZOFFSETFROM:-0600
TZOFFSETTO:-0700
TZNAME:MST
DTSTART:20251102T080000
END:STANDARD
BEGIN:DAYLIGHT
TZOFFSETFROM:-0700
TZOFFSETTO:-0600
TZNAME:MDT
DTSTART:20260308T090000
END:DAYLIGHT
BEGIN:STANDARD
TZOFFSETFROM:-0600
TZOFFSETTO:-0700
TZNAME:MST
DTSTART:20261101T080000
END:STANDARD
END:VTIMEZONE
BEGIN:VEVENT
DTSTART;TZID=America/Boise:20250419T130000
DTEND;TZID=America/Boise:20250419T160000
DTSTAMP:20260424T123058
CREATED:20250305T222747Z
LAST-MODIFIED:20250403T160153Z
UID:4363-1745067600-1745078400@surelsplace.org
SUMMARY:Workshop: Writing Immigrant Queerness
DESCRIPTION:WORKSHOPWRITING IMMIGRANT QUEERNESSSaturday\, April 19th  |  1:00pm – 4:00pm \n\n\n\n$25 : Surel’s Place Sustaining Members$35 : General Workshop RegistrationPartial scholarships available on request to info@surelplace.org. \n\n\n\nPeople of color encouraged to attend\, but writers of all backgrounds and levels welcome. \n\n\n\nMax participants: 20 \n\n\n\nAges 15 & up \n\n\n\nREGISTER HERE \n\n\n\nDESCRIPTION  \n\n\n\nHow do you create a life you’ve never seen before\, and how do you trust that it honors those before you? In this workshop\, writer-in-residence Amanda Machado explores how queer writers and writers of color have used writing as a tool to define the future they desired but could not yet create. In particular\, the class will focus on writing from queer people of color from immigrant families. Through the inspiration of work from Audre Lorde\, Daisy Hernandez\, Ocean Vuong and others\, together we’ll write on prompts that help unearth stories about how queerness and the immigrant experience help us think differently about desire\, respectability\, “the American Dream\,” and family legacy. \n\n\n\nBIOGRAPHY \n\n\n\nIn nearly a decade of their work\, Amanda Machado (CA) has focused on writing stories about travel\, outdoor adventure\, and sexuality that center the experiences of queer people and women of color. Recognizing the common erasure of those stories\, she has aimed to use her work\, as writer Matthew Salesses wrote\, to “take responsibility for absence.” \n\n\n\nAs a queer daughter of immigrants from Mexico and Ecuador\, Amanda has always felt split between many places. “I write stories that show how those of us — children of immigrants and displaced people\, queers\, gender-expansive folks — who grow up with our first experiences of home and desire and identity expanding past binaries\, ultimately become the kind of people who want to take in the world intimately\, who view travel as something we naturally must do.” In this next chapter of their work\, she also wants to write more directly about the link between ancestry\, colonization and travel\, how women have used travel to gain agency over their own bodies\, escape violence\, create refuge for themselves\, and redefine who they are.  \n\n\n\nAmanda has a BA in English Literature/Nonfiction from Brown University. Their work has been published in The Atlantic\, Guernica\, The Washington Post\, Adroit Journal\, Slate\, The Guardian\, Sierra Magazine\, among many others outlets.  In addition to their essay writing\, Amanda also is a public speaker and workshop facilitator on issues of justice and anti-oppression for organizations around the world. She is also the founder of Reclaiming Nature Writing\, a multi-week online workshop that centers the experiences of people of color in how we tell stories about the outdoors. \n\n\n\nThis programming is supported in part by Creative West and the National Endowment for the Arts.
URL:https://surelsplace.org/event/workshop-writing-immigrant-queerness/
LOCATION:Surel’s Place\, 212 E. 33rd Street\, Garden City\, 83714\, United States
CATEGORIES:Workshop
ATTACH;FMTTYPE=image/jpeg:https://surelsplace.org/wp-content/uploads/2025/03/w_2048.jpeg
END:VEVENT
END:VCALENDAR