BEGIN:VCALENDAR
VERSION:2.0
PRODID:-//Surel&#039;s Place - ECPv6.15.20//NONSGML v1.0//EN
CALSCALE:GREGORIAN
METHOD:PUBLISH
X-WR-CALNAME:Surel&#039;s Place
X-ORIGINAL-URL:https://surelsplace.org
X-WR-CALDESC:Events for Surel&#039;s Place
REFRESH-INTERVAL;VALUE=DURATION:PT1H
X-Robots-Tag:noindex
X-PUBLISHED-TTL:PT1H
BEGIN:VTIMEZONE
TZID:America/Boise
BEGIN:DAYLIGHT
TZOFFSETFROM:-0700
TZOFFSETTO:-0600
TZNAME:MDT
DTSTART:20240310T090000
END:DAYLIGHT
BEGIN:STANDARD
TZOFFSETFROM:-0600
TZOFFSETTO:-0700
TZNAME:MST
DTSTART:20241103T080000
END:STANDARD
BEGIN:DAYLIGHT
TZOFFSETFROM:-0700
TZOFFSETTO:-0600
TZNAME:MDT
DTSTART:20250309T090000
END:DAYLIGHT
BEGIN:STANDARD
TZOFFSETFROM:-0600
TZOFFSETTO:-0700
TZNAME:MST
DTSTART:20251102T080000
END:STANDARD
BEGIN:DAYLIGHT
TZOFFSETFROM:-0700
TZOFFSETTO:-0600
TZNAME:MDT
DTSTART:20260308T090000
END:DAYLIGHT
BEGIN:STANDARD
TZOFFSETFROM:-0600
TZOFFSETTO:-0700
TZNAME:MST
DTSTART:20261101T080000
END:STANDARD
END:VTIMEZONE
BEGIN:VEVENT
DTSTART;TZID=America/Boise:20250823T130000
DTEND;TZID=America/Boise:20250823T160000
DTSTAMP:20260424T071528
CREATED:20250702T160156Z
LAST-MODIFIED:20250813T165127Z
UID:4805-1755954000-1755964800@surelsplace.org
SUMMARY:Workshop: Felting Techniques
DESCRIPTION:WORKSHOPFELTING TECHNIQUESSaturday\, August 23rd  |  1:00pm – 4:00pm \n\n\n\nOpen to ages 16 & up – beginners to advanced. \n\n\n\n$45  |  General Admission$35  |  Surel’s Place Sustaining Member Admission (register with Special Passcode)Partial scholarships are available by request to info@surelsplace.org. \n\n\n\n\nREGISTER!\n\n\n\n\nThis workshop with Artist-in-Residence Alieh Rezaei explores the ancient art of felting\, with a focus on Iranian nomadic techniques and their global counterparts. Participants will delve into the historical\, cultural\, and emotional significance of the wet-felting process. \n\n\n\nBy the end of the workshop\, participants will have created their own 2D felted pieces\, using their chosen color compositions and personal design preferences.
URL:https://surelsplace.org/event/workshop-felting-techniques/
LOCATION:Surel’s Place\, 212 E. 33rd Street\, Garden City\, 83714\, United States
CATEGORIES:Workshop
ATTACH;FMTTYPE=image/jpeg:https://surelsplace.org/wp-content/uploads/2025/07/Rezaei_2508_FacebookEvent.jpg
END:VEVENT
END:VCALENDAR