BEGIN:VCALENDAR
VERSION:2.0
PRODID:-//Surel&#039;s Place - ECPv6.15.20//NONSGML v1.0//EN
CALSCALE:GREGORIAN
METHOD:PUBLISH
X-ORIGINAL-URL:https://surelsplace.org
X-WR-CALDESC:Events for Surel&#039;s Place
REFRESH-INTERVAL;VALUE=DURATION:PT1H
X-Robots-Tag:noindex
X-PUBLISHED-TTL:PT1H
BEGIN:VTIMEZONE
TZID:America/Boise
BEGIN:DAYLIGHT
TZOFFSETFROM:-0700
TZOFFSETTO:-0600
TZNAME:MDT
DTSTART:20240310T090000
END:DAYLIGHT
BEGIN:STANDARD
TZOFFSETFROM:-0600
TZOFFSETTO:-0700
TZNAME:MST
DTSTART:20241103T080000
END:STANDARD
BEGIN:DAYLIGHT
TZOFFSETFROM:-0700
TZOFFSETTO:-0600
TZNAME:MDT
DTSTART:20250309T090000
END:DAYLIGHT
BEGIN:STANDARD
TZOFFSETFROM:-0600
TZOFFSETTO:-0700
TZNAME:MST
DTSTART:20251102T080000
END:STANDARD
BEGIN:DAYLIGHT
TZOFFSETFROM:-0700
TZOFFSETTO:-0600
TZNAME:MDT
DTSTART:20260308T090000
END:DAYLIGHT
BEGIN:STANDARD
TZOFFSETFROM:-0600
TZOFFSETTO:-0700
TZNAME:MST
DTSTART:20261101T080000
END:STANDARD
END:VTIMEZONE
BEGIN:VEVENT
DTSTART;TZID=America/Boise:20251122T130000
DTEND;TZID=America/Boise:20251122T160000
DTSTAMP:20260422T080752
CREATED:20251029T203525Z
LAST-MODIFIED:20251030T015649Z
UID:5282-1763816400-1763827200@surelsplace.org
SUMMARY:YOUR CREATIVE VISION: DRAWING WORKSHOP
DESCRIPTION:WORKSHOPYOUR CREATIVE VISION: DRAWING WORKSHOPSaturday\, November 22nd | 1:00pm – 4:00pm \n\n\n\n$45 | General Registration \n\n\n\n$35 | Surel’s Place Sustaining Membership (with Special Passcode) \n\n\n\nPartial scholarships available by request to info@surelsplace.org \n\n\n\nat Surel’s Place: 212 E. 33rd Street in Garden City \n\n\n\n\nREGISTER\n\n\n\n\nMarshall Toomey will lead a workshop sharing drawing tips to incorporate into your own art practice. The class will be a combination of lecture and observational drawing from still life. Included will be practice studying light and shadows\, and\, throughout the day\, you’ll have plenty of time to experiment\, ask questions\, and get personalized feedback. \n\n\n\nAll experience levels are welcome. All materials supplied. \n\n\n\n\n\n\n\n\n\n\n\n\n\n\n\n\n\n\n\n\n\n\n\n\n\nBIOGRAPHY \n\n\n\nMarshal Toomey (California) is an accomplished artist with a career spanning over 40 years as a painter\, illustrator\, and movie animator. He was born and raised in Kansas City\, Missouri but moved to Southern California in the seventies to pursue his artistic career. \n\n\n\nHe worked for 20 years at the Walt Disney Animation Studio with credits including the supervising character lead in the creation of the animation of Rafiki in the The Lion King and Quasimodo in The Hunchback of the Notre Dame. You can see the many films he has worked on at his IMBD profile here. He has also illustrated many books – one of them being the The Lion King book published after the movie.  \n\n\n\nMarshall describes his work as autobiographical. “My own style is blended with traditional techniques to create an enriched view of the life I’ve experienced. I placed myself in the scene along with other characters from my life. I am taking a look at the positives in everyday life; the perspectives\, traditions\, and routines of being outside of the struggles.”
URL:https://surelsplace.org/event/your-creative-vision-drawing-workshop/
LOCATION:Surel’s Place\, 212 E. 33rd Street\, Garden City\, 83714\, United States
CATEGORIES:Workshop
ATTACH;FMTTYPE=image/jpeg:https://surelsplace.org/wp-content/uploads/2025/10/IMG_0425.jpeg
END:VEVENT
BEGIN:VEVENT
DTSTART;TZID=America/Boise:20251130T130000
DTEND;TZID=America/Boise:20251130T160000
DTSTAMP:20260422T080752
CREATED:20251121T171615Z
LAST-MODIFIED:20251121T171616Z
UID:5412-1764507600-1764518400@surelsplace.org
SUMMARY:YOUR CREATIVE VISION: DRAWING WORKSHOP
DESCRIPTION:WORKSHOPYOUR CREATIVE VISION: DRAWING WORKSHOPSunday\, November 30th | 1:00pm – 4:00pm \n\n\n\n$45 | General Registration \n\n\n\n$35 | Surel’s Place Sustaining Membership (with Special Passcode) \n\n\n\nPartial scholarships available by request to info@surelsplace.org \n\n\n\nat Surel’s Place: 212 E. 33rd Street in Garden City \n\n\n\n\nREGISTER\n\n\n\n\nMarshall Toomey will lead a workshop sharing drawing tips to incorporate into your own art practice. The class will be a combination of lecture and observational drawing from still life. Included will be practice studying light and shadows\, and\, throughout the day\, you’ll have plenty of time to experiment\, ask questions\, and get personalized feedback. \n\n\n\nAll experience levels are welcome. All materials supplied.
URL:https://surelsplace.org/event/your-creative-vision-drawing-workshop-2/
LOCATION:Surel’s Place\, 212 E. 33rd Street\, Garden City\, 83714\, United States
CATEGORIES:Workshop
ATTACH;FMTTYPE=image/jpeg:https://surelsplace.org/wp-content/uploads/2025/10/IMG_0425.jpeg
END:VEVENT
END:VCALENDAR