BEGIN:VCALENDAR
VERSION:2.0
PRODID:-//Surel&#039;s Place - ECPv6.15.20//NONSGML v1.0//EN
CALSCALE:GREGORIAN
METHOD:PUBLISH
X-WR-CALNAME:Surel&#039;s Place
X-ORIGINAL-URL:https://surelsplace.org
X-WR-CALDESC:Events for Surel&#039;s Place
REFRESH-INTERVAL;VALUE=DURATION:PT1H
X-Robots-Tag:noindex
X-PUBLISHED-TTL:PT1H
BEGIN:VTIMEZONE
TZID:America/Boise
BEGIN:DAYLIGHT
TZOFFSETFROM:-0700
TZOFFSETTO:-0600
TZNAME:MDT
DTSTART:20250309T090000
END:DAYLIGHT
BEGIN:STANDARD
TZOFFSETFROM:-0600
TZOFFSETTO:-0700
TZNAME:MST
DTSTART:20251102T080000
END:STANDARD
BEGIN:DAYLIGHT
TZOFFSETFROM:-0700
TZOFFSETTO:-0600
TZNAME:MDT
DTSTART:20260308T090000
END:DAYLIGHT
BEGIN:STANDARD
TZOFFSETFROM:-0600
TZOFFSETTO:-0700
TZNAME:MST
DTSTART:20261101T080000
END:STANDARD
BEGIN:DAYLIGHT
TZOFFSETFROM:-0700
TZOFFSETTO:-0600
TZNAME:MDT
DTSTART:20270314T090000
END:DAYLIGHT
BEGIN:STANDARD
TZOFFSETFROM:-0600
TZOFFSETTO:-0700
TZNAME:MST
DTSTART:20271107T080000
END:STANDARD
END:VTIMEZONE
BEGIN:VEVENT
DTSTART;TZID=America/Boise:20260117T130000
DTEND;TZID=America/Boise:20260117T160000
DTSTAMP:20260422T052013
CREATED:20251216T224124Z
LAST-MODIFIED:20260114T025951Z
UID:5484-1768654800-1768665600@surelsplace.org
SUMMARY:WORKSHOP: Form & Meaning: Storytelling Through Letters
DESCRIPTION:WORKSHOPFORM & MEANING: STORYTELLING THROUGH LETTERSSaturday\, January 17th | 1:00pm – 4:00pm \n\n\n\n$45 | General Registration (materials included)$35 | Surel’s Place Monthly Donors (with Special Passcode)Partial scholarships available by request to info@surelsplace.org \n\n\n\n\nREGISTER\n\n\n\n\nSetareh Ghoreishi will lead a workshop introducing you to ancient and non-Latin scripts (with visual references to Farsi and Cuneiform). Explore language beyond its literal translation by exploring the visual form. You will be encouraged to create your own abstract letterforms or symbols inspired by your personal stories\, identities\, or cultural background.  \n\n\n\nThis workshop encourages you to see typography not just as a technical skill\, but as a way to engage with visual forms\, culture and identity. This community-centered experience will demonstrate that communication is most powerful when it’s inclusive\, reflective\, and open to reinterpretation. \n\n\n\nAll experience levels are welcome. All materials supplied. Appropriate for artists\, designers\, and community members of all backgrounds. \n\n\n\n\n\nThank you to Setareh Ghoreishi’s Residency Sponsors:
URL:https://surelsplace.org/event/workshop-form-meaning-storytelling-through-letters/
LOCATION:Surel’s Place\, 212 E. 33rd Street\, Garden City\, 83714\, United States
CATEGORIES:Workshop
ATTACH;FMTTYPE=image/jpeg:https://surelsplace.org/wp-content/uploads/2025/11/Ghoreishis-work1.jpg
END:VEVENT
END:VCALENDAR