BEGIN:VCALENDAR
VERSION:2.0
PRODID:-//Surel&#039;s Place - ECPv6.15.20//NONSGML v1.0//EN
CALSCALE:GREGORIAN
METHOD:PUBLISH
X-ORIGINAL-URL:https://surelsplace.org
X-WR-CALDESC:Events for Surel&#039;s Place
REFRESH-INTERVAL;VALUE=DURATION:PT1H
X-Robots-Tag:noindex
X-PUBLISHED-TTL:PT1H
BEGIN:VTIMEZONE
TZID:America/Boise
BEGIN:DAYLIGHT
TZOFFSETFROM:-0700
TZOFFSETTO:-0600
TZNAME:MDT
DTSTART:20220313T090000
END:DAYLIGHT
BEGIN:STANDARD
TZOFFSETFROM:-0600
TZOFFSETTO:-0700
TZNAME:MST
DTSTART:20221106T080000
END:STANDARD
BEGIN:DAYLIGHT
TZOFFSETFROM:-0700
TZOFFSETTO:-0600
TZNAME:MDT
DTSTART:20230312T090000
END:DAYLIGHT
BEGIN:STANDARD
TZOFFSETFROM:-0600
TZOFFSETTO:-0700
TZNAME:MST
DTSTART:20231105T080000
END:STANDARD
BEGIN:DAYLIGHT
TZOFFSETFROM:-0700
TZOFFSETTO:-0600
TZNAME:MDT
DTSTART:20240310T090000
END:DAYLIGHT
BEGIN:STANDARD
TZOFFSETFROM:-0600
TZOFFSETTO:-0700
TZNAME:MST
DTSTART:20241103T080000
END:STANDARD
END:VTIMEZONE
BEGIN:VEVENT
DTSTART;TZID=America/Boise:20231028T130000
DTEND;TZID=America/Boise:20231028T160000
DTSTAMP:20260425T170921
CREATED:20231013T183751Z
LAST-MODIFIED:20231025T191650Z
UID:2464-1698498000-1698508800@surelsplace.org
SUMMARY:Transformation of Foliage
DESCRIPTION:Willow Wells will guide you through the process of observing and mimicking patterns seen in nature and how to use these patterns to create something new. With a focus on the beauty and diversity of plants\, you will draw and transform them into other things using various drawing techniques such as sketching and coloring. You are encouraged to think creatively and transform your plant inspiration into animals\, buildings\, or abstract designs. \n\n\n\nThis workshop will be an engaging and fun activity for the community while also providing opportunities for skill development and creativity. Participants will gain a greater appreciation for the beauty and diversity of plants while also enjoying the process of transforming them. \n\n\n\nA﻿ges 14 & up \n\n\n\nM﻿aterials will be provided \n\n\n\nP﻿artial scholarships available upon request to info@surelsplace.org
URL:https://surelsplace.org/event/transformation-of-foliage/
LOCATION:Surel’s Place\, 212 E. 33rd Street\, Garden City\, 83714\, United States
CATEGORIES:Workshop
ATTACH;FMTTYPE=image/jpeg:https://surelsplace.org/wp-content/uploads/2023/10/oct-2023-wells-Eventbrite.jpg
END:VEVENT
END:VCALENDAR