BEGIN:VCALENDAR
VERSION:2.0
PRODID:-//Surel&#039;s Place - ECPv6.15.20//NONSGML v1.0//EN
CALSCALE:GREGORIAN
METHOD:PUBLISH
X-ORIGINAL-URL:https://surelsplace.org
X-WR-CALDESC:Events for Surel&#039;s Place
REFRESH-INTERVAL;VALUE=DURATION:PT1H
X-Robots-Tag:noindex
X-PUBLISHED-TTL:PT1H
BEGIN:VTIMEZONE
TZID:America/Boise
BEGIN:DAYLIGHT
TZOFFSETFROM:-0700
TZOFFSETTO:-0600
TZNAME:MDT
DTSTART:20230312T090000
END:DAYLIGHT
BEGIN:STANDARD
TZOFFSETFROM:-0600
TZOFFSETTO:-0700
TZNAME:MST
DTSTART:20231105T080000
END:STANDARD
BEGIN:DAYLIGHT
TZOFFSETFROM:-0700
TZOFFSETTO:-0600
TZNAME:MDT
DTSTART:20240310T090000
END:DAYLIGHT
BEGIN:STANDARD
TZOFFSETFROM:-0600
TZOFFSETTO:-0700
TZNAME:MST
DTSTART:20241103T080000
END:STANDARD
BEGIN:DAYLIGHT
TZOFFSETFROM:-0700
TZOFFSETTO:-0600
TZNAME:MDT
DTSTART:20250309T090000
END:DAYLIGHT
BEGIN:STANDARD
TZOFFSETFROM:-0600
TZOFFSETTO:-0700
TZNAME:MST
DTSTART:20251102T080000
END:STANDARD
END:VTIMEZONE
BEGIN:VEVENT
DTSTART;TZID=America/Boise:20240420T130000
DTEND;TZID=America/Boise:20240420T160000
DTSTAMP:20260425T081114
CREATED:20240411T005406Z
LAST-MODIFIED:20240411T010431Z
UID:3069-1713618000-1713628800@surelsplace.org
SUMMARY:Old Stories\, New Voices with Monica Raymond
DESCRIPTION:Why does a fellow want a girl like hera girl who’s merely lovely?Why can’t a fellow ever once prefera girl who’s merely me?-Rogers and Hammerstein Stepsister’s Lament from CINDERELLABored with always centering too-good-to-be-true Cinderella and her prince? Let’s tell the story from the point of view of a wicked stepsister\, the magic coach\, or even the glass slipper. In this writing workshop with poet and playwright Monica Raymond\, we’ll begin with some exercises in inner listening\, then allow the voices of objects and minor characters from well-worn tales to reveal secrets\, destabilize and re-enchant those stories. While Raymond will provide suggestions\, please feel free to bring your own favorite fairy tale\, Bible story\, myth\, or canonical narrative (Macbeth? A Christmas Carol?) to work with. We’ll be creating new work\, not workshopping previously written pieces. Sharing what you write during the workshop will be optional\, though welcome. \n\n\n\nThis workshop is for fiction writers\, poets\, playwrights and screenwriters\, visual artists\, anyone who’s interested. Scholarships available by request to info@surelsplace.org. This programming is supported in part by the Western States Arts Federation (WESTAF) and the National Endowment for the Arts. \n\n\n\nBIOGRAPHY \n\n\n\nMonica Raymond (Massachusetts) is a poet\, playwright\, lyricist and librettist. Primarily a poet for the first half of her life\, she began auditing courses in performance art while teaching writing and interdisciplinary arts at the Boston Museum School. While she still makes the occasional solo performance piece for herself\, she soon realized that she prefers to write scripts for other people. Her first full-length script\, FASTER\, about the death of a teenage anorexic\, got her admitted to Smith College’s under-the-radar MFA program\, from which she graduated in 2000. Since then she’s had close to ninety performances or staged readings of her work in the US and Canada. \n\n\n\n“My work\, particularly in theater\, usually addresses some thorny knot of a world problem for which I do not have a solution\, only many questions and a whorl of feelings and sensations\,” Monica elaborates. “Creating strong\, complex women characters is central.” Her multiple prize-winning full-length The Owl Girl was an extended meditation on the situation in Israel/Palestine. Another play\, A to Z\, looks at the 1968 murder of a Black male activist through the stories of his girlfriend\, sister and first grade teacher. Monica’s work often has a magical\, spiritual aspect\, stretching from the mundane into mystery.
URL:https://surelsplace.org/event/old-stories-new-voices/
LOCATION:Surel’s Place\, 212 E. 33rd Street\, Garden City\, 83714\, United States
CATEGORIES:Workshop
ATTACH;FMTTYPE=image/png:https://surelsplace.org/wp-content/uploads/2024/04/Raymond-mailchimp-banner-01.png
END:VEVENT
END:VCALENDAR