BEGIN:VCALENDAR
VERSION:2.0
PRODID:-//Surel&#039;s Place - ECPv6.15.20//NONSGML v1.0//EN
CALSCALE:GREGORIAN
METHOD:PUBLISH
X-ORIGINAL-URL:https://surelsplace.org
X-WR-CALDESC:Events for Surel&#039;s Place
REFRESH-INTERVAL;VALUE=DURATION:PT1H
X-Robots-Tag:noindex
X-PUBLISHED-TTL:PT1H
BEGIN:VTIMEZONE
TZID:America/Boise
BEGIN:DAYLIGHT
TZOFFSETFROM:-0700
TZOFFSETTO:-0600
TZNAME:MDT
DTSTART:20230312T090000
END:DAYLIGHT
BEGIN:STANDARD
TZOFFSETFROM:-0600
TZOFFSETTO:-0700
TZNAME:MST
DTSTART:20231105T080000
END:STANDARD
BEGIN:DAYLIGHT
TZOFFSETFROM:-0700
TZOFFSETTO:-0600
TZNAME:MDT
DTSTART:20240310T090000
END:DAYLIGHT
BEGIN:STANDARD
TZOFFSETFROM:-0600
TZOFFSETTO:-0700
TZNAME:MST
DTSTART:20241103T080000
END:STANDARD
BEGIN:DAYLIGHT
TZOFFSETFROM:-0700
TZOFFSETTO:-0600
TZNAME:MDT
DTSTART:20250309T090000
END:DAYLIGHT
BEGIN:STANDARD
TZOFFSETFROM:-0600
TZOFFSETTO:-0700
TZNAME:MST
DTSTART:20251102T080000
END:STANDARD
END:VTIMEZONE
BEGIN:VEVENT
DTSTART;TZID=America/Boise:20240601T130000
DTEND;TZID=America/Boise:20240601T160000
DTSTAMP:20260425T050825
CREATED:20240425T162529Z
LAST-MODIFIED:20240425T162530Z
UID:3161-1717246800-1717257600@surelsplace.org
SUMMARY:Shrinky Dinks Workshop
DESCRIPTION:Get ready for some big fun with some small art at this Shrinky Dinks all-ages workshop led with the knowledgable guidance of artist Lauren Kistner. This workshop is a chance to explore the medium of Shrinky Dinks\, the plastic art toy from the 1970s. This is a family-friendly\, drop-in workshop\, so bring some friends and get in the Shrinky Dinks mood in anticipation of our Fundraising Gala and Shrinky Dink Art Auction to follow on Saturday\, June 8th from 6:00pm – 9:30pm. \n\n\n\n\n\nRick Friesen\, Ukrainian Immigrants\, Dubois\, Idaho\, 1920\, 2022\n\n\n\n\n\nKaty Shanafelt\, Orandallusion\, 2018\n\n\n\n\n\nAshley Dreyfus\, Enchanted Forest\, 2022
URL:https://surelsplace.org/event/shrinky-dinks-workshop/
LOCATION:Surel’s Place\, 212 E. 33rd Street\, Garden City\, 83714\, United States
CATEGORIES:Workshop
ATTACH;FMTTYPE=image/jpeg:https://surelsplace.org/wp-content/uploads/2024/04/SurelsPlace_2024_Gala_FacebookEvent.jpg
END:VEVENT
END:VCALENDAR