BEGIN:VCALENDAR
VERSION:2.0
PRODID:-//Surel&#039;s Place - ECPv6.15.20//NONSGML v1.0//EN
CALSCALE:GREGORIAN
METHOD:PUBLISH
X-WR-CALNAME:Surel&#039;s Place
X-ORIGINAL-URL:https://surelsplace.org
X-WR-CALDESC:Events for Surel&#039;s Place
REFRESH-INTERVAL;VALUE=DURATION:PT1H
X-Robots-Tag:noindex
X-PUBLISHED-TTL:PT1H
BEGIN:VTIMEZONE
TZID:America/Boise
BEGIN:DAYLIGHT
TZOFFSETFROM:-0700
TZOFFSETTO:-0600
TZNAME:MDT
DTSTART:20230312T090000
END:DAYLIGHT
BEGIN:STANDARD
TZOFFSETFROM:-0600
TZOFFSETTO:-0700
TZNAME:MST
DTSTART:20231105T080000
END:STANDARD
BEGIN:DAYLIGHT
TZOFFSETFROM:-0700
TZOFFSETTO:-0600
TZNAME:MDT
DTSTART:20240310T090000
END:DAYLIGHT
BEGIN:STANDARD
TZOFFSETFROM:-0600
TZOFFSETTO:-0700
TZNAME:MST
DTSTART:20241103T080000
END:STANDARD
BEGIN:DAYLIGHT
TZOFFSETFROM:-0700
TZOFFSETTO:-0600
TZNAME:MDT
DTSTART:20250309T090000
END:DAYLIGHT
BEGIN:STANDARD
TZOFFSETFROM:-0600
TZOFFSETTO:-0700
TZNAME:MST
DTSTART:20251102T080000
END:STANDARD
END:VTIMEZONE
BEGIN:VEVENT
DTSTART;TZID=America/Boise:20240623T130000
DTEND;TZID=America/Boise:20240623T160000
DTSTAMP:20260425T051318
CREATED:20240518T202021Z
LAST-MODIFIED:20240518T202024Z
UID:3344-1719147600-1719158400@surelsplace.org
SUMMARY:Workshop: Introduction to Textural Painting
DESCRIPTION:Welcome to Introduction to Textural Painting with Kit Julianto! Join us for a hands-on workshop where you’ll learn the basics of creating beautiful textured paintings with this indigenous artist from the Duck Valley.  Kit will help you embrace the freedom of brushstrokes and layers of color characteristic in his own work\, leading to a completed painting of your own design. Discuss and demonstrate the use of warm and cool colors. Learn how to create texture with an uncontrolled style of abstract painting. Use the abstract painting as background for an image that can be the focal point of the painting.  \n\n\n\nThis event will take place at Surel’s Place\, a cozy and inspiring location perfect for unleashing your creativity. Whether you’re a beginner or an experienced artist looking to try something new\, this workshop is for you. Come explore different techniques\, experiment with various materials\, and let your imagination run wild. Don’t miss this opportunity to dive into the world of textural painting and create your own masterpiece! \n\n\n\nThis programming is supported in part by the Western States Arts Federation (WESTAF) and the National Endowment for the Arts and in partnership with the Indigenous Idaho Alliance.  \n\n\n\nPartial scholarships available by request to info@surelsplace.org.  \n\n\n\nSurel’s Place is accessible by wheelchair. \n\n\n\n\n\nGET TICKETS: surelsplace.ludus.com
URL:https://surelsplace.org/event/workshop-introduction-to-textural-painting/
LOCATION:Surel’s Place\, 212 E. 33rd Street\, Garden City\, 83714\, United States
CATEGORIES:Workshop
ATTACH;FMTTYPE=image/jpeg:https://surelsplace.org/wp-content/uploads/2024/05/24-06-julianto-Facebook-Event-Banner.jpg
END:VEVENT
END:VCALENDAR