BEGIN:VCALENDAR
VERSION:2.0
PRODID:-//Surel&#039;s Place - ECPv6.15.20//NONSGML v1.0//EN
CALSCALE:GREGORIAN
METHOD:PUBLISH
X-WR-CALNAME:Surel&#039;s Place
X-ORIGINAL-URL:https://surelsplace.org
X-WR-CALDESC:Events for Surel&#039;s Place
REFRESH-INTERVAL;VALUE=DURATION:PT1H
X-Robots-Tag:noindex
X-PUBLISHED-TTL:PT1H
BEGIN:VTIMEZONE
TZID:America/Boise
BEGIN:DAYLIGHT
TZOFFSETFROM:-0700
TZOFFSETTO:-0600
TZNAME:MDT
DTSTART:20240310T090000
END:DAYLIGHT
BEGIN:STANDARD
TZOFFSETFROM:-0600
TZOFFSETTO:-0700
TZNAME:MST
DTSTART:20241103T080000
END:STANDARD
BEGIN:DAYLIGHT
TZOFFSETFROM:-0700
TZOFFSETTO:-0600
TZNAME:MDT
DTSTART:20250309T090000
END:DAYLIGHT
BEGIN:STANDARD
TZOFFSETFROM:-0600
TZOFFSETTO:-0700
TZNAME:MST
DTSTART:20251102T080000
END:STANDARD
BEGIN:DAYLIGHT
TZOFFSETFROM:-0700
TZOFFSETTO:-0600
TZNAME:MDT
DTSTART:20260308T090000
END:DAYLIGHT
BEGIN:STANDARD
TZOFFSETFROM:-0600
TZOFFSETTO:-0700
TZNAME:MST
DTSTART:20261101T080000
END:STANDARD
END:VTIMEZONE
BEGIN:VEVENT
DTSTART;TZID=America/Boise:20250215T130000
DTEND;TZID=America/Boise:20250215T160000
DTSTAMP:20260424T165504
CREATED:20250117T185715Z
LAST-MODIFIED:20250117T185718Z
UID:4255-1739624400-1739635200@surelsplace.org
SUMMARY:Embroidering Traditional Techniques and 2D Animation
DESCRIPTION:Artist in residence Ainaz Alipour will introduce you to her traditional Iranian embroidery techniques and how this can be integrated with 2D animation\, emphasizing cultural representation and self-expression. You will receive hands-on practice with basic stitches and patterns from northern Khorasan. Using these skills\, you will create a small textile panel. Then\, the participants will work together to create a small collaborative animation project integrating your embroidered piece.   \n\n\n\n$45 guest \n\n\n\n$35 sustaining member \n\n\n\nRegister Here \n\n\n\n \n\n\n\nBIOGRAPHY \n\n\n\nAinaz Alipour (b. Iran) is an interdisciplinary artist whose practice explores the interplay between textile traditions and contemporary artistic expression\, emphasizing cultural representation in art and its potential to challenge power structures. Drawing from Iranian cultural imagery\, she creates installations that integrate soft sculptures\, utilizing local sewing crafts and embroidery techniques from northern Khorasan. Alipour’s work focuses on the dynamics and politics of bodies\, engaging viewers through tactile fabric-based forms that challenge colonial representations and assert the presence and agency of marginalized bodies. Her multimedia installations have been recognized and awarded\, with curated screenings at the Rochester Contemporary Art Center and exhibitions at the Ringling Museum of Art and the Mattie Kelly Art Center. \n\n\n\nAinaz Alipour received her MFA in Studio Arts from the University of South Florida; her MA in Animation and Film from Trabiat Modares University in Tehran\, Iran; and a BFA in Printmaking from the Tehran University of Art.
URL:https://surelsplace.org/event/embroidering-traditional-techniques-and-2d-animation/
LOCATION:Surel’s Place\, 212 E. 33rd Street\, Garden City\, 83714\, United States
CATEGORIES:Workshop
ATTACH;FMTTYPE=image/jpeg:https://surelsplace.org/wp-content/uploads/2025/01/Alipour.jpg
END:VEVENT
END:VCALENDAR